BEGIN:VCALENDAR
VERSION:2.0
PRODID:-//wp-events-plugin.com//7.2.3.1//EN
BEGIN:VEVENT
UID:796@frauenbildungszentrum.de
DTSTART;TZID=Europe/Berlin:20250313T183000
DTEND;TZID=Europe/Berlin:20250313T200000
DTSTAMP:20250313T114602Z
URL:https://www.frauenbildungszentrum.de/events/zuhause-leben-bis-zuletzt
SUMMARY:ZUHAUSE LEBEN. BIS ZULETZT.
DESCRIPTION:Palliative und hospizliche Begleitung im Hochtaunuskreis\nImmer
  mehr Menschen haben den Wunsch\, auch bei schwerer und schwerster Krankhe
 it\, zu Hause versorgt zu werden und im gewohnten Umfeld versterben zu kö
 nnen. Wir – das Palliativteam und die Löwenzahn Hochtaunus – wollen d
 as Leben im häuslichen Umfeld ermöglichen\, Angehörige mit einbeziehen 
 und eine Verlegung ins Krankenhaus bei Krisen möglichst vermeiden.\n\nAn 
 diesem Abend werden u.a. folgende Fragen behandelt:\n\n· An wen richtet s
 ich die ambulante Palliativversorgung?\n\n· Worin unterscheidet sich die 
 kurative (heilende) von der palliativen (lindernden) Medizin?\n\n· Was ze
 ichnet die palliative Behandlung aus?\n\n· Welche Versorgungsmöglichkeit
 en gibt es im Hochtaunuskreis?\n\n· Wie kann Menschen geholfen werden\, d
 ie an einer schweren\, fortschreitenden und lebensverkürzenden Erkrankung
  leiden?\n\n&nbsp\;\n\n&nbsp\;\nLeitung: Elisa Ebertz-Keber\nDonnerstag\, 
 13. März 2025\n\n18.30 – 20.00 Uhr\n\nDieser Kurs wird für Frauen und 
 Männer angeboten.\n\n&nbsp\;\n\n251-07-029\n\n 
CATEGORIES:Gesundheit &amp; Selbsterfahrung,März,Recht
LOCATION:Frauenbildungszentrum\, Schöne Aussicht 24 \, Bad Homburg\, Hesse
 n\, 61348  \, Deutschland
X-APPLE-STRUCTURED-LOCATION;VALUE=URI;X-ADDRESS=Schöne Aussicht 24 \, Bad 
 Homburg\, Hessen\, 61348  \, Deutschland;X-APPLE-RADIUS=100;X-TITLE=Frauen
 bildungszentrum:geo:0,0
END:VEVENT
BEGIN:VTIMEZONE
TZID:Europe/Berlin
X-LIC-LOCATION:Europe/Berlin
BEGIN:STANDARD
DTSTART:20241027T020000
TZOFFSETFROM:+0200
TZOFFSETTO:+0100
TZNAME:CET
END:STANDARD
END:VTIMEZONE
END:VCALENDAR