BEGIN:VCALENDAR
VERSION:2.0
PRODID:-//wp-events-plugin.com//7.2.3.1//EN
BEGIN:VEVENT
UID:377@frauenbildungszentrum.de
DTSTART;TZID=Europe/Berlin:20251222T200000
DTEND;TZID=Europe/Berlin:20251222T213000
DTSTAMP:20250710T090414Z
URL:https://www.frauenbildungszentrum.de/events/zauber-und-mystik-der-raun
 aechte
SUMMARY:Zauber und Mystik der Rauhnächte
DESCRIPTION:Viele Geheimnisse\, Sagen und Geschichten ranken sich um die Ta
 ge „zwischen den Jahren". Wir wollen versuchen einen Einblick in die bes
 ondere Stimmung der raum- und zeitlosen Phase zu gewinnen sowie Ritualen u
 nd volkskundlichem Glauben nachzuspüren.\nMitzubringen ist nur die Neugie
 rde und Aufgeschlossenheit für einen entspannten Abend zauberhafter Mysti
 k und das Loslassen von Altem und Vergangenem.\n&nbsp\;\n\nLeitung: Julian
 e Bergmann\n\nMontag\, 22. Dezember 2025\n20.00 – 21.30 Uhr\n\n&nbsp\;\n
 252-07-019\n \n\n 
CATEGORIES:Dezember,Gesundheit &amp; Selbsterfahrung
LOCATION:Frauenbildungszentrum\, Schöne Aussicht 24 \, Bad Homburg\, Hesse
 n\, 61348  \, Deutschland
X-APPLE-STRUCTURED-LOCATION;VALUE=URI;X-ADDRESS=Schöne Aussicht 24 \, Bad 
 Homburg\, Hessen\, 61348  \, Deutschland;X-APPLE-RADIUS=100;X-TITLE=Frauen
 bildungszentrum:geo:0,0
END:VEVENT
BEGIN:VTIMEZONE
TZID:Europe/Berlin
X-LIC-LOCATION:Europe/Berlin
BEGIN:STANDARD
DTSTART:20251026T020000
TZOFFSETFROM:+0200
TZOFFSETTO:+0100
TZNAME:CET
END:STANDARD
END:VTIMEZONE
END:VCALENDAR