BEGIN:VCALENDAR
VERSION:2.0
PRODID:-//wp-events-plugin.com//7.2.3.1//EN
BEGIN:VEVENT
UID:156@frauenbildungszentrum.de
DTSTART;TZID=Europe/Berlin:20230307T190000
DTEND;TZID=Europe/Berlin:20230404T201500
DTSTAMP:20230110T193021Z
URL:https://www.frauenbildungszentrum.de/events/yoga-fuer-einsteigerinnen-
 online
SUMMARY:Yoga für Einsteigerinnen - online
DESCRIPTION:Dieser Kurs eignet sich für alle\, die gerne einmal in die Yog
 awelt reinschnuppern möchten und diesen Weg der Gesunderhaltung von zu Ha
 use aus ausprobieren wollen.\nDer Kurs umfasst sanfte und stabilisierende 
 Asanas (Körperhaltungen) sowie Atmungstechniken. Die Entspannung am Ende 
 jeder Einheit kommt ebenfalls nicht zu kurz.\nWas benötigst Du: Eine stab
 ile Internetverbindung\, einen Computer/Laptop mit Kamera\, bequeme Kleidu
 ng\, Yogamatte\, Kissen\, Decke\, Yogablöcke (falls nicht vorhanden\, dic
 kes Buch)\, Yoga Gurt oder Gürtel\nLeitung: Michaela Kauertz\n5 x Di.\, 0
 7.03. – 04.04.2023\n\n19.00 – 20.15 Uhr\n\nonline über Zoom\n231-05-2
 31
CATEGORIES:Gesundheit &amp; Selbsterfahrung,März,Sport &amp; Bewegung
LOCATION:#
END:VEVENT
BEGIN:VTIMEZONE
TZID:Europe/Berlin
X-LIC-LOCATION:Europe/Berlin
BEGIN:STANDARD
DTSTART:20221030T020000
TZOFFSETFROM:+0200
TZOFFSETTO:+0100
TZNAME:CET
END:STANDARD
BEGIN:DAYLIGHT
DTSTART:20230326T030000
TZOFFSETFROM:+0100
TZOFFSETTO:+0200
TZNAME:CEST
END:DAYLIGHT
END:VTIMEZONE
END:VCALENDAR