BEGIN:VCALENDAR
VERSION:2.0
PRODID:-//wp-events-plugin.com//7.2.3.1//EN
BEGIN:VEVENT
UID:56@frauenbildungszentrum.de
DTSTART;TZID=Europe/Berlin:20241126T180000
DTEND;TZID=Europe/Berlin:20241126T193000
DTSTAMP:20240701T152514Z
URL:https://www.frauenbildungszentrum.de/events/yoga-fuer-die-augen-das-on
 line-seminar
SUMMARY:Yoga für die Augen – Online
DESCRIPTION:Eintauchen in die Welt der Augen\nBildschirmarbeit mit entspann
 tem Sehen meistern – es kommt auf die Sehgewohnheiten und besonders auf 
 die Pausen an. Lernen Sie in diesem Online-Seminar wie Sie Ihre Augen stä
 rken können.\n\nNeben allgemeinen Informationen über das Sehen und Mögl
 ichkeiten zur Regeneration der Sehkraft werden Sie mit einer geführten Me
 ditation in die Welt der Augen reisen\, denn in der Entspannung kann heils
 amer Kontakt zum Sehsystem aufgenommen werden. Zusätzlich werden Sequenze
 n zur Selbsthilfe bei trockenen Augen integriert.\n\nDas Online-Seminar wi
 rd über die Plattform ZOOM durchgeführt. Voraussetzung zur Teilnahme ist
  eine Internetverbindung\, sowie ein Tablet oder Laptop/Computer mit Kamer
 a. Ein Mikrofon wird empfohlen. Sie erhalten rechtzeitig vor Kursbeginn pe
 r E-Mail einen Link zu Ihrem virtuellen Kursraum.\n\nBitte tragen Sie wäh
 rend der Augenschule keine Kontaktlinsen und kleiden sich bequem.\n\nLeitu
 ng: Petra Goebel\n\nOrt: Online über Zoom\n\nDienstag\, 26. November 2024
 \n18.00 – 19.30 Uhr\n\n&nbsp\;\n\nEin Kurs für alle\, die ihre Augen st
 ärken wollen – nicht nur für Frauen.\n\n242-07-021\n\n 
CATEGORIES:Computer Spezial,Gesundheit &amp; Selbsterfahrung,November
LOCATION:#
END:VEVENT
BEGIN:VTIMEZONE
TZID:Europe/Berlin
X-LIC-LOCATION:Europe/Berlin
BEGIN:STANDARD
DTSTART:20241027T020000
TZOFFSETFROM:+0200
TZOFFSETTO:+0100
TZNAME:CET
END:STANDARD
END:VTIMEZONE
END:VCALENDAR