BEGIN:VCALENDAR
VERSION:2.0
PRODID:-//wp-events-plugin.com//7.2.3.1//EN
BEGIN:VEVENT
UID:979@frauenbildungszentrum.de
DTSTART;TZID=Europe/Berlin:20260428T150000
DTEND;TZID=Europe/Berlin:20260623T160000
DTSTAMP:20260224T110614Z
URL:https://www.frauenbildungszentrum.de/events/yoga-auf-dem-stuhl-2-2
SUMMARY:Yoga auf dem Stuhl 2
DESCRIPTION:Stuhl-Yoga bietet Ihnen sanfte Übungen im Sitzen für alle Alt
 ersgruppen und Fitnesslevel. Stuhl-Yoga kann Ihre Beweglichkeit auch bei e
 ingeschränkter Mobilität verbessern.\n\nDie Kursstunden werden mit einer
  kleinen Einheit ätherischer Öle und einer Atemübung abgerundet\, um St
 ress und Ängste abzubauen.\n\nAuch wenn Sie nicht in der Lage sind\, stre
 ngere Yoga-Formen zu praktizieren\, können Sie von Stuhl-Yoga profitieren
 .\n\nDieser Kurs richtet sich an alle Interessierten\, unabhängig von Vor
 kenntnissen\, er ist jedoch kein Ersatz für eine Therapie. Bei gesundheit
 lichen Problemen halten Sie bitte vorab Rücksprache mit Ihrem Arzt.\n\nBi
 tte Sportschuhe oder dicke Socken\, bequeme Kleidung und etwas zum Trinken
  mitbringen\nLeitung: Ute Kolbe\n8 x Di.\, 28.04. – 23.06.2026\naußer a
 m 27.Mai\n\n14.30 – 15.30 Uhr\n\n&nbsp\;\n262-05-112
CATEGORIES:April,Gesundheit &amp; Selbsterfahrung,Sport &amp; Bewegung
LOCATION:Frauenbildungszentrum\, Schöne Aussicht 24 \, Bad Homburg\, Hesse
 n\, 61348  \, Deutschland
X-APPLE-STRUCTURED-LOCATION;VALUE=URI;X-ADDRESS=Schöne Aussicht 24 \, Bad 
 Homburg\, Hessen\, 61348  \, Deutschland;X-APPLE-RADIUS=100;X-TITLE=Frauen
 bildungszentrum:geo:0,0
END:VEVENT
BEGIN:VTIMEZONE
TZID:Europe/Berlin
X-LIC-LOCATION:Europe/Berlin
BEGIN:DAYLIGHT
DTSTART:20260329T030000
TZOFFSETFROM:+0100
TZOFFSETTO:+0200
TZNAME:CEST
END:DAYLIGHT
END:VTIMEZONE
END:VCALENDAR