BEGIN:VCALENDAR
VERSION:2.0
PRODID:-//wp-events-plugin.com//7.2.3.1//EN
BEGIN:VEVENT
UID:632@frauenbildungszentrum.de
DTSTART;TZID=Europe/Berlin:20250918T183000
DTEND;TZID=Europe/Berlin:20250918T200000
DTSTAMP:20250708T121206Z
URL:https://www.frauenbildungszentrum.de/events/wunderbare-wechseljahre
SUMMARY:WUNDERBARE WECHSELJAHRE
DESCRIPTION:Dein Körper\, deine Stärke\, deine Zeit\nAllein der Begriff 
 „Wechseljahre“ wirkt auf viele Frauen wie ein Schreckgespenst. Gedanke
 n an unliebsame Symptome\, wie Hitzewallungen\, Schlafstörungen\, Gewicht
 szunahme\, Stimmungsschwankungen\, usw. gehen damit einher.\n\nAn diesem A
 bend möchte ich Sie einladen nicht (mehr) mit möglichen Symptomen zu had
 ern\, sondern Ihren Körper liebevoll durch diese transformativen Jahre zu
  begleiten. Denn spätestens jetzt hat er Ihre achtsame Zuwendung mehr als
  verdient. Mindestens so wichtig wie die Unterstützung auf körperlicher 
 Ebene\, ist auch Ihre innere Einstellung gegenüber dieser bereichernden L
 ebensphase.\n\nEs liegen noch so viele wundervolle Jahre vor Ihnen – sei
 en Sie gespannt und ein bisschen mutig: möglicherweise nehmen Sie inspiri
 erende Impulse mit nachhause\, die Ihrem Alltag ab morgen einen etwas ande
 ren „Anstrich“ verpassen.\n\n&nbsp\;\nLeitung: Marina Wagner\nDo.\, 18
 . September 2025\n18.30 – 20.00 Uhr\n\n&nbsp\;\n\n&nbsp\;\n\n252-07-013\
 n\n 
CATEGORIES:Gesundheit &amp; Selbsterfahrung,September
LOCATION:Frauenbildungszentrum\, Schöne Aussicht 24 \, Bad Homburg\, Hesse
 n\, 61348  \, Deutschland
X-APPLE-STRUCTURED-LOCATION;VALUE=URI;X-ADDRESS=Schöne Aussicht 24 \, Bad 
 Homburg\, Hessen\, 61348  \, Deutschland;X-APPLE-RADIUS=100;X-TITLE=Frauen
 bildungszentrum:geo:0,0
END:VEVENT
BEGIN:VTIMEZONE
TZID:Europe/Berlin
X-LIC-LOCATION:Europe/Berlin
BEGIN:DAYLIGHT
DTSTART:20250330T030000
TZOFFSETFROM:+0100
TZOFFSETTO:+0200
TZNAME:CEST
END:DAYLIGHT
END:VTIMEZONE
END:VCALENDAR