BEGIN:VCALENDAR
VERSION:2.0
PRODID:-//wp-events-plugin.com//7.2.3.1//EN
BEGIN:VEVENT
UID:544@frauenbildungszentrum.de
DTSTART;TZID=Europe/Berlin:20240423T180000
DTEND;TZID=Europe/Berlin:20240423T210000
DTSTAMP:20240411T130544Z
URL:https://www.frauenbildungszentrum.de/events/wie-kann-ich-ki-tools-sinn
 voll-in-meiner-lebens-und-arbeitswelt-nutzen
SUMMARY:Wie kann ich KI Tools sinnvoll in meiner Lebens- und Arbeitswelt nu
 tzen?
DESCRIPTION:In diesem Workshop lernen Sie Grundlagen und Anwendungsmöglich
 keiten der wichtigsten KI-Tools kennen. Sie erhalten einen praxisnahen Üb
 erblick über die Funktionsweise aktueller KI-Tools und erfahren\, wie Sie
  diese im Handumdrehen effizient und kreativ für Alltag und Beruf nutzen 
 können. Begeben Sie sich auf eine spannende Entdeckungsreise in die digit
 ale Welt von heute.\n\n&nbsp\;\nLeitung: Stefanie Fischer\nDienstag\, 23. 
 April 2024\n18.00 – 21.00 Uhr\n\nMindestteilnehmerinnenzahl: 4\n\n241-01
 -306\n\n 
CATEGORIES:April,Computer Spezial,Computerkurse
LOCATION:Frauenbildungszentrum\, Schöne Aussicht 24 \, Bad Homburg\, Hesse
 n\, 61348  \, Deutschland
X-APPLE-STRUCTURED-LOCATION;VALUE=URI;X-ADDRESS=Schöne Aussicht 24 \, Bad 
 Homburg\, Hessen\, 61348  \, Deutschland;X-APPLE-RADIUS=100;X-TITLE=Frauen
 bildungszentrum:geo:0,0
END:VEVENT
BEGIN:VTIMEZONE
TZID:Europe/Berlin
X-LIC-LOCATION:Europe/Berlin
BEGIN:DAYLIGHT
DTSTART:20240331T030000
TZOFFSETFROM:+0100
TZOFFSETTO:+0200
TZNAME:CEST
END:DAYLIGHT
END:VTIMEZONE
END:VCALENDAR