BEGIN:VCALENDAR
VERSION:2.0
PRODID:-//wp-events-plugin.com//7.2.3.1//EN
BEGIN:VEVENT
UID:47@frauenbildungszentrum.de
DTSTART;TZID=Europe/Berlin:20240306T193000
DTEND;TZID=Europe/Berlin:20240306T210000
DTSTAMP:20231206T160433Z
URL:https://www.frauenbildungszentrum.de/events/wenn-beziehung-krank-macht
SUMMARY:Wenn Beziehung krank macht
DESCRIPTION:Wer in einer toxischen Beziehung ist\, balanciert ständig zwis
 chen Himmel und Hölle. Irgendwann winken auch Freunde und Familie ab und 
 wollen von den Dramen nichts mehr hören. Trennungsversuche wechseln sich 
 mit hoffnungsvollen Neustarts ab. Auf die Dauer führt das in die seelisch
 e und körperliche Erschöpfung – man verliert den Kontakt zu sich selbs
 t. Wir beschäftigen uns mit der Dynamik\, die in einer solchen Beziehung 
 wirksam wird. Und vor allem damit\, mit welchen wesentlichen Schritten es 
 möglich wird\, Grenzen zu setzen\, wieder bei sich selbst anzukommen und 
 für sich einzustehen.\n\nLeitung: Sabina Thiemeyer\n\nMittwoch\, 6. März
  2024\n19.30 – 21.00 Uhr\n\n&nbsp\;\n\n241-07-017\n\n 
CATEGORIES:Gesundheit &amp; Selbsterfahrung,März
LOCATION:Frauenbildungszentrum\, Schöne Aussicht 24 \, Bad Homburg\, Hesse
 n\, 61348  \, Deutschland
X-APPLE-STRUCTURED-LOCATION;VALUE=URI;X-ADDRESS=Schöne Aussicht 24 \, Bad 
 Homburg\, Hessen\, 61348  \, Deutschland;X-APPLE-RADIUS=100;X-TITLE=Frauen
 bildungszentrum:geo:0,0
END:VEVENT
BEGIN:VTIMEZONE
TZID:Europe/Berlin
X-LIC-LOCATION:Europe/Berlin
BEGIN:STANDARD
DTSTART:20231029T020000
TZOFFSETFROM:+0200
TZOFFSETTO:+0100
TZNAME:CET
END:STANDARD
END:VTIMEZONE
END:VCALENDAR