BEGIN:VCALENDAR
VERSION:2.0
PRODID:-//wp-events-plugin.com//7.2.3.1//EN
BEGIN:VEVENT
UID:74@frauenbildungszentrum.de
DTSTART;TZID=Europe/Berlin:20231127T180000
DTEND;TZID=Europe/Berlin:20231127T201500
DTSTAMP:20230630T153915Z
URL:https://www.frauenbildungszentrum.de/events/warum-sollten-wir-uns-fuer
 -sie-entscheiden-2
SUMMARY:Warum sollten wir uns für Sie  entscheiden? 2
DESCRIPTION:Gut vorbereitet ins Vorstellungsgespräch\nDie Einladung zum In
 terview ist ein toller Erfolg und ein entscheidender Schritt auf dem Weg z
 um neuen Job. Im Wettbewerb mit anderen Bewerberinnen und Bewerbern wollen
  Sie nun Ihren Gesprächspartner davon überzeugen\, dass Sie die Beste f
 ür die Stelle sind.\nAuch bei idealer Vorbereitung wird es nicht gelingen
 \, sich für jede mögliche Frage die perfekte Antwort zu überlegen. Wo e
 s aber besonders darauf ankommt\, da können Sie die entscheidenden Extrap
 unkte sammeln. In diesem Workshop zeige ich Ihnen\, wie das geht.\nDie hei
 kelsten Fragen besprechen wir ausführlich und üben die geeigneten Antwor
 ten. In Ihr nächstes Vorstellungsgespräch gehen Sie mit dem sicheren Gef
 ühl\, optimal vorbereitet zu sein. - Dies ist Teil 4 des vierteiligen Bew
 erbungstrainings. Jedes Seminar können Sie auch einzeln buchen.\nKursleit
 ung: Angelika Schaack\n\nEs entstehen Materialkosten in Höhe von € 3\,-
 -\, die direkt an die Referentin zu zahlen sind.\nMontag\, 27. November 20
 23\n\n18.00 – 20.15 Uhr\n\n232-09-039\n\n \n
CATEGORIES:Beruf &amp; Finanzen,November
LOCATION:Frauenbildungszentrum\, Schöne Aussicht 24 \, Bad Homburg\, Hesse
 n\, 61348  \, Deutschland
X-APPLE-STRUCTURED-LOCATION;VALUE=URI;X-ADDRESS=Schöne Aussicht 24 \, Bad 
 Homburg\, Hessen\, 61348  \, Deutschland;X-APPLE-RADIUS=100;X-TITLE=Frauen
 bildungszentrum:geo:0,0
END:VEVENT
BEGIN:VTIMEZONE
TZID:Europe/Berlin
X-LIC-LOCATION:Europe/Berlin
BEGIN:STANDARD
DTSTART:20231029T020000
TZOFFSETFROM:+0200
TZOFFSETTO:+0100
TZNAME:CET
END:STANDARD
END:VTIMEZONE
END:VCALENDAR