BEGIN:VCALENDAR
VERSION:2.0
PRODID:-//wp-events-plugin.com//7.2.3.1//EN
BEGIN:VEVENT
UID:103@frauenbildungszentrum.de
DTSTART;TZID=Europe/Berlin:20260414T170000
DTEND;TZID=Europe/Berlin:20260414T180000
DTSTAMP:20260324T103344Z
URL:https://www.frauenbildungszentrum.de/events/walking-und-fitness-fuer-e
 insteigerinnen-2
SUMMARY:Walking und Fitness für Einsteigerinnen 2
DESCRIPTION:Auf einer schönen Strecke im stadtnahgelegenen Hardtwald erler
 nen und trainieren wir das Nordic Walking. Zudem wollen wir an mehreren St
 ationen mit gezielten Fitnessübungen unsere Arm-\, Bein- und Oberkörperm
 uskulatur verbessern. Dehnübungen am Ende der Stunde runden das Trainings
 programm ab.\nDieser Kurs ist für jede sportgesunde Frau zum Aufbau einer
  Basisausdauer geeignet. Tragen Sie bitte dem Wetter angepasste Kleidung.\
 nLeitung: Birgit Petersen\n  9 x Di.\, 14.04. – 16.06.2026\n17.00 – 1
 8.00 Uhr\nnicht am 28.04.2026\n\nOrt: Hardtwald in Bad Homburg\,\nTreffpun
 kt: Parkplatz am Waldfriedhof\n\n&nbsp\;\n\nEin Schnuppertermin sowie ein 
 späterer Einstieg sind jederzeit möglich.\n\n261-05-732\n 
CATEGORIES:April,Sport &amp; Bewegung
LOCATION:Parkplatz am Waldfriedhof\, Kreuzweg\, Bad Homburg\, 61350\, Deuts
 chland
X-APPLE-STRUCTURED-LOCATION;VALUE=URI;X-ADDRESS=Kreuzweg\, Bad Homburg\, 61
 350\, Deutschland;X-APPLE-RADIUS=100;X-TITLE=Parkplatz am Waldfriedhof:geo
 :0,0
END:VEVENT
BEGIN:VTIMEZONE
TZID:Europe/Berlin
X-LIC-LOCATION:Europe/Berlin
BEGIN:DAYLIGHT
DTSTART:20260329T030000
TZOFFSETFROM:+0100
TZOFFSETTO:+0200
TZNAME:CEST
END:DAYLIGHT
END:VTIMEZONE
END:VCALENDAR