BEGIN:VCALENDAR
VERSION:2.0
PRODID:-//wp-events-plugin.com//7.2.3.1//EN
BEGIN:VEVENT
UID:96@frauenbildungszentrum.de
DTSTART;TZID=Europe/Berlin:20240307T193000
DTEND;TZID=Europe/Berlin:20240307T213000
DTSTAMP:20231208T161131Z
URL:https://www.frauenbildungszentrum.de/events/vorsorgevollmacht-patiente
 nverfuegung-betreuung
SUMMARY:Vorsorgevollmacht / Patientenverfügung/ Betreuung
DESCRIPTION:Der Vortrag wendet sich an diejenigen\, die für Alter\, Krankh
 eit und Gebrechen mittels einer Vorsorgevollmacht Regelungen treffen wolle
 n. Der Vortrag wendet sich auch an Frauen und Männer\, die sich als so ge
 nannte „pflegende Angehörige“ eines alten und/oder gebrechlichen Mitm
 enschen mit einem gerichtlichen Betreuungsverfahren konfrontiert sehen.\nF
 orm und Inhalt der Verfügungen werden vorgestellt und erörtert sowie die
  rechtliche Seite betrachtet\, wie z.B. die Umsetzbarkeit der Vollmacht un
 ter dem Aspekt\, dass hierdurch staatliche "Bevormundung" durch ein Betreu
 ungsverfahren vermieden werden kann.\nLeitung: Gudrun Stein und Christian 
 Winter\nDonnerstag\, 7. März 2024\n19.30 – 21.30 Uhr\n\n&nbsp\;\n\n241-
 08-002\nBei detaillierten Fragen besteht die Möglichkeit\, im Rahmen eine
 r persönlichen Beratung Unterstützung zu erhalten.\nDieser Kurs wird fü
 r Frauen und Männer angeboten.
CATEGORIES:Gesundheit &amp; Selbsterfahrung,März,Recht
LOCATION:Frauenbildungszentrum\, Schöne Aussicht 24 \, Bad Homburg\, Hesse
 n\, 61348  \, Deutschland
X-APPLE-STRUCTURED-LOCATION;VALUE=URI;X-ADDRESS=Schöne Aussicht 24 \, Bad 
 Homburg\, Hessen\, 61348  \, Deutschland;X-APPLE-RADIUS=100;X-TITLE=Frauen
 bildungszentrum:geo:0,0
END:VEVENT
BEGIN:VTIMEZONE
TZID:Europe/Berlin
X-LIC-LOCATION:Europe/Berlin
BEGIN:STANDARD
DTSTART:20231029T020000
TZOFFSETFROM:+0200
TZOFFSETTO:+0100
TZNAME:CET
END:STANDARD
END:VTIMEZONE
END:VCALENDAR