BEGIN:VCALENDAR
VERSION:2.0
PRODID:-//wp-events-plugin.com//7.2.3.1//EN
BEGIN:VEVENT
UID:162@frauenbildungszentrum.de
DTSTART;TZID=Europe/Berlin:20240602T100000
DTEND;TZID=Europe/Berlin:20240602T150000
DTSTAMP:20240418T065651Z
URL:https://www.frauenbildungszentrum.de/events/unterwegs-auf-dem-elisabet
 henpfad
SUMMARY:Unterwegs auf dem Elisabethenpfad
DESCRIPTION:„Seht\, ich habe es doch gesagt\, wir sollen die Menschen fro
 h machen!“ (Heilige Elisabeth von Thüringen)\nAuf diesem Wanderweg wird
  es Anregungen geben\, die aus dem Leben der heiligen Elisabeth von Thüri
 ngen entstehen. Wir bedenken beim Gehen dieses Pilgerweges den eigenen Leb
 ensweg: Wie werde ich fertig mit Umwegen\, mit Niederlagen und Enttäuschu
 ngen? Was berührt mich gerade\, was stärkt mich\, wie komme ich mit Unte
 rschieden zurecht? Wie stehe ich für Überzeugungen ein?.\n\nDie ca. 15 k
 m lange Wanderung findet bei jedem Wetter statt. Proviant bitte selbst mit
 bringen. Keine spezielle Kondition beim Wandern erforderlich. Ausgangspunk
 t ist der Bahnhof Usingen. Hierher geht es mit dem Zug in 25 Min. von Bran
 doberndorf am Ende zurück. Die Bahnfahrkarte ist nicht mit im Kurspreis e
 nthalten.\nLeitung: Elisabeth Buddeus-Steiff\nSonntag\, 2. Juni 2024\n10.0
 0 – 15.00 Uhr\n\nMindestteilnehmerzahl: 7\n\nDieser Kurs wird für Fraue
 n und Männer angeboten.\n\n&nbsp\;\n\n241-07-004\n 
CATEGORIES:Gesundheit &amp; Selbsterfahrung,Juni
LOCATION:Bahnhof Usingen\,  Bahnhofstr. 32\, Usingen\, 61250\, Deutschland
X-APPLE-STRUCTURED-LOCATION;VALUE=URI;X-ADDRESS= Bahnhofstr. 32\, Usingen\,
  61250\, Deutschland;X-APPLE-RADIUS=100;X-TITLE=Bahnhof Usingen:geo:0,0
END:VEVENT
BEGIN:VTIMEZONE
TZID:Europe/Berlin
X-LIC-LOCATION:Europe/Berlin
BEGIN:DAYLIGHT
DTSTART:20240331T030000
TZOFFSETFROM:+0100
TZOFFSETTO:+0200
TZNAME:CEST
END:DAYLIGHT
END:VTIMEZONE
END:VCALENDAR