BEGIN:VCALENDAR
VERSION:2.0
PRODID:-//wp-events-plugin.com//7.2.3.1//EN
BEGIN:VEVENT
UID:389@frauenbildungszentrum.de
DTSTART;TZID=Europe/Berlin:20250814T090000
DTEND;TZID=Europe/Berlin:20250925T100000
DTSTAMP:20250630T135203Z
URL:https://www.frauenbildungszentrum.de/events/unsere-fuesse
SUMMARY:Unsere Füße
DESCRIPTION:Stärken Sie die Basis\, die Sie trägt\nSie tragen uns ein Leb
 en lang\, unsere Füße! Doch wieviel Aufmerksamkeit schenken wir ihnen?\n
 In diesem Kurs wollen wir unsere Füße dem „Kopf“ etwas näherbringen
 . Wir sprechen über die Bedeutung der Füße und ihre Funktion\, die Kör
 perstatik\, die Gewölbe und mögliche Erkrankungen. Außerdem beobachten 
 wir das Gehen und wie sich dieses auf die Füße und die gesamte Körperst
 atik auswirkt. Mit Hilfe vielfältiger Übungen zur Mobilisation und Kräf
 tigung der Fußmuskulatur\, können unsere Füße gesund und kräftig erha
 lten werden.\nKommen Sie mit auf einen Spaziergang in dem wir unsere Aufme
 rksamkeit auf die Füße richten.\nBitte eine Matte\, Noppensocken/Turnsch
 läppchen\, zwei Handtücher und Papiertaschentücher mitbringen.\n\nLeitu
 ng: Uta Losse\n\n7 x Do.\, 14.08. – 25.09.2025\n\n252-05-921\n\n&nbsp\;
CATEGORIES:August,Gesundheit &amp; Selbsterfahrung,Sport &amp; Bewegung
LOCATION:Frauenbildungszentrum\, Schöne Aussicht 24 \, Bad Homburg\, Hesse
 n\, 61348  \, Deutschland
X-APPLE-STRUCTURED-LOCATION;VALUE=URI;X-ADDRESS=Schöne Aussicht 24 \, Bad 
 Homburg\, Hessen\, 61348  \, Deutschland;X-APPLE-RADIUS=100;X-TITLE=Frauen
 bildungszentrum:geo:0,0
END:VEVENT
BEGIN:VTIMEZONE
TZID:Europe/Berlin
X-LIC-LOCATION:Europe/Berlin
BEGIN:DAYLIGHT
DTSTART:20250330T030000
TZOFFSETFROM:+0100
TZOFFSETTO:+0200
TZNAME:CEST
END:DAYLIGHT
END:VTIMEZONE
END:VCALENDAR