BEGIN:VCALENDAR
VERSION:2.0
PRODID:-//wp-events-plugin.com//7.2.3.1//EN
BEGIN:VEVENT
UID:366@frauenbildungszentrum.de
DTSTART;TZID=Europe/Berlin:20240131T180000
DTEND;TZID=Europe/Berlin:20240320T193000
DTSTAMP:20231213T104717Z
URL:https://www.frauenbildungszentrum.de/events/tu-was-dir-am-herzen-liegt
SUMMARY:Tu\, was dir am Herzen liegt 1
DESCRIPTION:Dem Herzen folgen und eigene Wünsche umsetzen\nSie würden ger
 ne ein Gefühl von Zufriedenheit und erfüllt sein erleben\, ihrer inneren
  Stimme folgen\, sich verändern privat oder beruflich? „Wäre ja schön
 \, aber wie soll das gehen?“\nDieser Frage gehen wir auf einer interessa
 nten Reise über 5 Etappen nach. Der Workshop bietet Ihnen die Möglichkei
 t\, das eigene Leben zu reflektieren\, verborgene Wünsche und Bedürfniss
 e ans Licht zu holen\, sich der eigenen Kraft und Wirksamkeit bewusst zu w
 erden und neu auszurichten.\nInhalte des Workshops:\n\n\n 	Achtsamkeitsüb
 ungen\, Übungen und Impulse zur Selbstfürsorge\n 	Reflektion der eigenen
  Lebenserfahrungen\n 	Stärken und Ressourcen bewusstmachen und verinnerli
 chen\n 	Die motivierende Kraft der inneren Werte entdecken Was ist Ihnen w
 ichtig? Was ist für Sie unverzichtbar für Zufriedenheit?\n 	Eigene Ziele
  entwickeln: Was liegt Ihnen am Herzen? In welchen Bereichen Ihres Lebens 
 möchten Sie sich neu ausrichten?\n\nFolgen Sie der Stimme Ihres Herzens. 
 Bitte bringen Sie eine Iso-Matte\, eine Decke und warme Socken mit.\nLeitu
 ng: Claudia Schmidt\n\n5 x Mi.\, 31.01. – 28.02.2024\n18.00 – 19.30 Uh
 r +\n1 x Mi.\, 20.03.2024\n19.30 – 21.00 Uhr\n\n&nbsp\;\n\n241-07-024\n\
 n \n\n 
CATEGORIES:Gesundheit &amp; Selbsterfahrung,Januar
LOCATION:Frauenbildungszentrum\, Schöne Aussicht 24 \, Bad Homburg\, Hesse
 n\, 61348  \, Deutschland
X-APPLE-STRUCTURED-LOCATION;VALUE=URI;X-ADDRESS=Schöne Aussicht 24 \, Bad 
 Homburg\, Hessen\, 61348  \, Deutschland;X-APPLE-RADIUS=100;X-TITLE=Frauen
 bildungszentrum:geo:0,0
END:VEVENT
BEGIN:VTIMEZONE
TZID:Europe/Berlin
X-LIC-LOCATION:Europe/Berlin
BEGIN:STANDARD
DTSTART:20231029T020000
TZOFFSETFROM:+0200
TZOFFSETTO:+0100
TZNAME:CET
END:STANDARD
END:VTIMEZONE
END:VCALENDAR