BEGIN:VCALENDAR
VERSION:2.0
PRODID:-//wp-events-plugin.com//7.2.3.1//EN
BEGIN:VEVENT
UID:408@frauenbildungszentrum.de
DTSTART;TZID=Europe/Berlin:20240408T180000
DTEND;TZID=Europe/Berlin:20240617T193000
DTSTAMP:20231213T154158Z
URL:https://www.frauenbildungszentrum.de/events/tu-was-dir-am-herzen-liegt
 -2
SUMMARY:Tu\, was dir am Herzen liegt 2
DESCRIPTION:Dem Herzen folgen und eigene Wünsche umsetzen\nSie würden ger
 ne ein Gefühl von Zufriedenheit und erfüllt sein erleben\, ihrer inneren
  Stimme folgen\, sich verändern privat oder beruflich? „Wäre ja schön
 \, aber wie soll das gehen?“\nDieser Frage gehen wir auf einer interessa
 nten Reise über 5 Etappen nach. Der Workshop bietet Ihnen die Möglichkei
 t\, das eigene Leben zu reflektieren\, verborgene Wünsche und Bedürfniss
 e ans Licht zu holen\, sich der eigenen Kraft und Wirksamkeit bewusst zu w
 erden und neu auszurichten.\nInhalte des Workshops:\n\n\n 	Achtsamkeitsüb
 ungen\, Übungen und Impulse zur Selbstfürsorge\n 	Reflektion der eigenen
  Lebenserfahrungen\n 	Stärken und Ressourcen bewusstmachen und verinnerli
 chen\n 	Die motivierende Kraft der inneren Werte entdecken Was ist dir wic
 htig? Was ist für dich unverzichtbar für Zufriedenheit?\n 	Eigene Ziele 
 entwickeln: Was liegt dir am Herzen? In welchen Bereichen deines Lebens m
 öchtest du dich neu ausrichten?\n\nFolgen Sie der Stimme Ihres Herzens. B
 itte bringen Sie eine Iso-Matte\, eine Decke und warme Socken mit.\nLeitun
 g: Claudia Schmidt\n\n5 x Mo.\, 08.04. – 06.05.2024\n18.00 – 19.30 Uhr
  +\n1 x Mo.\, 17.06.2024\n18.00 – 19.30 Uhr\n\n&nbsp\;\n\n241-07-025\n\n
  \n\n 
CATEGORIES:April,Gesundheit &amp; Selbsterfahrung
LOCATION:Frauenbildungszentrum\, Schöne Aussicht 24 \, Bad Homburg\, Hesse
 n\, 61348  \, Deutschland
X-APPLE-STRUCTURED-LOCATION;VALUE=URI;X-ADDRESS=Schöne Aussicht 24 \, Bad 
 Homburg\, Hessen\, 61348  \, Deutschland;X-APPLE-RADIUS=100;X-TITLE=Frauen
 bildungszentrum:geo:0,0
END:VEVENT
BEGIN:VTIMEZONE
TZID:Europe/Berlin
X-LIC-LOCATION:Europe/Berlin
BEGIN:DAYLIGHT
DTSTART:20240331T030000
TZOFFSETFROM:+0100
TZOFFSETTO:+0200
TZNAME:CEST
END:DAYLIGHT
END:VTIMEZONE
END:VCALENDAR