BEGIN:VCALENDAR
VERSION:2.0
PRODID:-//wp-events-plugin.com//7.2.3.1//EN
BEGIN:VEVENT
UID:80@frauenbildungszentrum.de
DTSTART;TZID=Europe/Berlin:20240607T000000
DTEND;TZID=Europe/Berlin:20261231T000000
DTSTAMP:20251210T110609Z
URL:https://www.frauenbildungszentrum.de/events/textverarbeitung-mit-word-
 einfuehrung-und-aufbau
SUMMARY:Textverarbeitung mit WORD Einführung und Aufbau
DESCRIPTION:Voraussetzungen: Windows-Kenntnisse\nIn diesem Kurs lernen Sie 
 die Funktionsweise des Textverarbeitungsprogramms WORD kennen\, erstellen 
 verschiedene Texte und gestalten diese ansprechend.\nIm Einzelnen lernen S
 ie im Einführungsteil:\n\n\n 	Grundeinstellungen und Bildschirmaufbau\; S
 ymbole\n 	Verschiedene Bildschirmansichten\n 	Texte eingeben\, korrigieren
 \, speichern und öffnen\n 	Arbeiten mit der Zwischenablage: Texte kopiere
 n oder ausschneiden und an anderer Stelle wieder einfügen\n 	Textgestaltu
 ng: markieren und formatieren\n 	Tabulatoren und Schnellbausteine\n\nIm An
 schluss lernen Sie die Textverarbeitung Word als zweckmäßige Hilfe für 
 den Büroalltag kennen.\nKursinhalte Aufbauteil:\n\n\n 	Formatvorlagen ers
 tellen und anwenden\n 	Tabellen erstellen und gestalten\n 	Dokumentvorlage
 n erstellen und benutzen\n 	Serienbriefe\n\nKenntnisse in Word sind auch e
 ine wichtige Grundlage für das Schreiben von E-Mails und die Arbeit mit T
 abellenkalkulationen oder Präsentationen.\nLeitung: Stefanie Fischer\nTer
 mine auf Anfrage\n5 x 3 Stunden\nMindestteilnehmerinnenzahl: 3\n\n&nbsp\;\
 n261-01-201
CATEGORIES:April,August,Computerkurse,Dezember,Februar,Januar,Juli,Juni,Ma
 i,März,November,Oktober,September
LOCATION:Frauenbildungszentrum\, Schöne Aussicht 24 \, Bad Homburg\, Hesse
 n\, 61348  \, Deutschland
X-APPLE-STRUCTURED-LOCATION;VALUE=URI;X-ADDRESS=Schöne Aussicht 24 \, Bad 
 Homburg\, Hessen\, 61348  \, Deutschland;X-APPLE-RADIUS=100;X-TITLE=Frauen
 bildungszentrum:geo:0,0
END:VEVENT
BEGIN:VTIMEZONE
TZID:Europe/Berlin
X-LIC-LOCATION:Europe/Berlin
BEGIN:DAYLIGHT
DTSTART:20240331T030000
TZOFFSETFROM:+0100
TZOFFSETTO:+0200
TZNAME:CEST
END:DAYLIGHT
BEGIN:STANDARD
DTSTART:20241027T020000
TZOFFSETFROM:+0200
TZOFFSETTO:+0100
TZNAME:CET
END:STANDARD
BEGIN:DAYLIGHT
DTSTART:20250330T030000
TZOFFSETFROM:+0100
TZOFFSETTO:+0200
TZNAME:CEST
END:DAYLIGHT
BEGIN:STANDARD
DTSTART:20251026T020000
TZOFFSETFROM:+0200
TZOFFSETTO:+0100
TZNAME:CET
END:STANDARD
BEGIN:DAYLIGHT
DTSTART:20260329T030000
TZOFFSETFROM:+0100
TZOFFSETTO:+0200
TZNAME:CEST
END:DAYLIGHT
BEGIN:STANDARD
DTSTART:20261025T020000
TZOFFSETFROM:+0200
TZOFFSETTO:+0100
TZNAME:CET
END:STANDARD
END:VTIMEZONE
END:VCALENDAR