BEGIN:VCALENDAR
VERSION:2.0
PRODID:-//wp-events-plugin.com//7.2.3.1//EN
BEGIN:VEVENT
UID:553@frauenbildungszentrum.de
DTSTART;TZID=Europe/Berlin:20250309T100000
DTEND;TZID=Europe/Berlin:20250309T140000
DTSTAMP:20250306T090706Z
URL:https://www.frauenbildungszentrum.de/events/tempeltour-zwischen-der-ho
 hemark-und-kronberg
SUMMARY:Tempeltour zwischen der Hohemark und Kronberg
DESCRIPTION:„Nur wer sich auf den Weg macht\, wird neues Land entdecken:
 “ (Hugo von Hofmannsthal)\n\nZiel ist\, die herrliche Aussicht auf Frank
 furt und ggf. bis in den Odenwald vom Viktoria Tempel und dem Gilboa Tempe
 l zu genießen. Auf diesem Weg werden wir an eher unbekannten kulturellen 
 Kleinoden vorbei wandern\, z.B. der Antoniuskapelle und dem Jüdischen Fri
 edhof.\n\nAm Viktoria Tempel legen wir eine Rast mit Rucksackverpflegung e
 in. Über das Naturschutzgebiet Hünerbergwiesen geht es zurück\, dabei l
 assen wir uns die Aussichtsbank dort nicht entgehen. Der Höhenunterschied
  der ca. 10 km langen Tour beträgt ungefähr 200 m. Die Wanderung findet 
 bei jedem Wetter statt.\n\n&nbsp\;\nLeitung: Elisabeth Buddeus-Steiff\nSon
 ntag\, 9. März 2025\n10.00 – 14.00 Uhr\nMindestteilnehmerinnenzahl: 7\n
 \n&nbsp\;\n\nTreffpunkt: Endhaltestelle U3 Oberursel-Hohemark\,\n\nHohemar
 kstr. 190\, 61440 Oberursel\nDieser Kurs wird für Frauen und Männer ange
 boten.\n&nbsp\;\n\n251-07-003\n\n \n 
CATEGORIES:Gesundheit &amp; Selbsterfahrung,März
LOCATION:Endhaltestelle der U3 - 61440 Oberursel Hohemark\, Hohemarkstr\, O
 berursel\, 61440\, Deutschland
X-APPLE-STRUCTURED-LOCATION;VALUE=URI;X-ADDRESS=Hohemarkstr\, Oberursel\, 6
 1440\, Deutschland;X-APPLE-RADIUS=100;X-TITLE=Endhaltestelle der U3 - 6144
 0 Oberursel Hohemark:geo:0,0
END:VEVENT
BEGIN:VTIMEZONE
TZID:Europe/Berlin
X-LIC-LOCATION:Europe/Berlin
BEGIN:STANDARD
DTSTART:20241027T020000
TZOFFSETFROM:+0200
TZOFFSETTO:+0100
TZNAME:CET
END:STANDARD
END:VTIMEZONE
END:VCALENDAR