BEGIN:VCALENDAR
VERSION:2.0
PRODID:-//wp-events-plugin.com//7.2.3.1//EN
BEGIN:VEVENT
UID:426@frauenbildungszentrum.de
DTSTART;TZID=Europe/Berlin:20240420T140000
DTEND;TZID=Europe/Berlin:20240420T163000
DTSTAMP:20231208T143735Z
URL:https://www.frauenbildungszentrum.de/events/tanzen-in-der-natur-1
SUMMARY:Tanzen in der Natur 1
DESCRIPTION:Die Natur als Tanzpartnerin\nTanzen unter freiem Himmel und uns
  von dem\, was wir wahrnehmen\, bewegen lassen. Im Wind wiegende Äste\, d
 as Plätschern des Baches oder der Flug eines Vogels…. in der Natur ist 
 alles in ständiger Bewegung.\nIndem wir wahrnehmen und lauschen\, können
  wir erfahren\, wie unser Körper auf die Sprache der Natur antworten möc
 hte\, denn er kennt die wortlose Sprache der Erde. Wenn wir unseren Impuls
 en folgen und zulassen\, dass sie sich ausdehnen\, entsteht ein Tanz. Ein 
 Tanz\, der uns verbindet mit uns selbst und mit allem was uns umgibt.\nDas
  Tanzen im Freien ist eine Einladung\, neue Erfahrungen zu machen und die 
 Natur als heilenden Raum zu erleben. Es ist überraschend einfach\, denn u
 nsere Tanzpartnerin wartet schon auf uns.\nDie Tanzplätze befinden sich i
 n der Umgebung von Bad Homburg und werden noch bekanntgegeben.\n\n&nbsp\;\
 nLeitung: Mona Wosnik\nSamstag\, 20. April 2024\n14.00 – 16.30 Uhr\nMind
 estteilnehmerinnenzahl: 5\n\nOrt: Wird vor Kursbeginn bekannt gegeben\nIn 
 den Kursgebühren ist jeweils GEMA enthalten.\n241-04-103\n&nbsp\;
CATEGORIES:April,Musik &amp; Tanz,Sport &amp; Bewegung
LOCATION:Wird noch bekannt gegeben\, Hessenring\, Bad Homburg\, Deutschland
X-APPLE-STRUCTURED-LOCATION;VALUE=URI;X-ADDRESS=Hessenring\, Bad Homburg\, 
 Deutschland;X-APPLE-RADIUS=100;X-TITLE=Wird noch bekannt gegeben:geo:0,0
END:VEVENT
BEGIN:VTIMEZONE
TZID:Europe/Berlin
X-LIC-LOCATION:Europe/Berlin
BEGIN:DAYLIGHT
DTSTART:20240331T030000
TZOFFSETFROM:+0100
TZOFFSETTO:+0200
TZNAME:CEST
END:DAYLIGHT
END:VTIMEZONE
END:VCALENDAR