BEGIN:VCALENDAR
VERSION:2.0
PRODID:-//wp-events-plugin.com//7.2.3.1//EN
BEGIN:VEVENT
UID:125@frauenbildungszentrum.de
DTSTART;TZID=Europe/Berlin:20230210T000000
DTEND;TZID=Europe/Berlin:20230211T000000
DTSTAMP:20230202T081444Z
URL:https://www.frauenbildungszentrum.de/events/taijiquan-wochenendworksho
 p-fuer-einsteigerinnen
SUMMARY:Taijiquan - Wochenendworkshop für Einsteigerinnen
DESCRIPTION:An diesem Wochenende wollen wir in die faszinierende Welt des T
 aijiquans eintauchen. Im Taijiquan\, das seinen Ursprung in der Selbstvert
 eidigung hat\, betonen wir das Praktizieren des Inneren von Essenz\, Qi un
 d Geist. Die Bewegungen werden aus unserer Mitte heraus ausgeführt\, sind
  weich wie ziehende Wolken und fließendes Wasser\, der Geist kommt zur Ru
 he\, der Körper entspannt sich und wird durchlässig - neue Energien werd
 en frei.\nSich längere Zeit am Stück damit zu beschäftigen erleichtert 
 den Zugang zu dieser Art der bewegten Meditation. Bewegung und Ruheübunge
 n wechseln sich ab.\nWeitere Inhalte sind:\n\n\n 	Kennenlernen des Taijiqu
 ans der Wudangschule\n 	Grundlagenübungen\n 	Lockerungs-\, Dehnungs- und 
 Koordinationsübungen\, Meditation\n 	Hintergrundwissen\n\nBitte mitbringe
 n: Bequeme sportliche Kleidung und flache Hallenschuhe oder Stoppersocken\
 , eine Gymnastikmatte oder Decke.\n\nLeitung: Annette Feil\n\n&nbsp\;\n\nF
 reitag\, 10. Februar 2023\n19.00 – 21.00 Uhr\n\nSamstag\, 11. Februar 20
 23\n10.00 – 17.00 Uhr\n\n231-05-631
CATEGORIES:Februar,Gesundheit &amp; Selbsterfahrung,Sport &amp; Bewegung
LOCATION:Vereinshaus Dornholzhausen\, Saalburgstr. 158\, Bad Homburg\, Deut
 schland
X-APPLE-STRUCTURED-LOCATION;VALUE=URI;X-ADDRESS=Saalburgstr. 158\, Bad Homb
 urg\, Deutschland;X-APPLE-RADIUS=100;X-TITLE=Vereinshaus Dornholzhausen:ge
 o:0,0
END:VEVENT
BEGIN:VTIMEZONE
TZID:Europe/Berlin
X-LIC-LOCATION:Europe/Berlin
BEGIN:STANDARD
DTSTART:20221030T020000
TZOFFSETFROM:+0200
TZOFFSETTO:+0100
TZNAME:CET
END:STANDARD
END:VTIMEZONE
END:VCALENDAR