BEGIN:VCALENDAR
VERSION:2.0
PRODID:-//wp-events-plugin.com//7.2.3.1//EN
BEGIN:VEVENT
UID:809@frauenbildungszentrum.de
DTSTART;TZID=Europe/Berlin:20250730T193000
DTEND;TZID=Europe/Berlin:20250813T210000
DTSTAMP:20250528T115254Z
URL:https://www.frauenbildungszentrum.de/events/taijiquan-fuer-frauen-mit-
 erfahrung-sommerkurs-2
SUMMARY:TaIjiquan für Frauen mit Erfahrung Sommerkurs 2
DESCRIPTION:Taijiquan (auch Tai Chi Chuan) ist ein meditativer Weg\, um Ene
 rgieblockaden und körperliche Verspannungen aufzulösen und zu geistiger 
 Ruhe zu kommen.\nDurch regelmäßiges Üben können Sie dauerhaft Ihr kör
 perliches und geistiges Wohlbefinden steigern\, Energien tanken und im All
 tag gelassener werden. Im Kurs werden Teil 1 und 2 der Form Yang-Stil geü
 bt.\nDie Übungen werden ergänzt durch entspannende und dehnende Bodenüb
 ungen.\nBitte bringen Sie bequeme Sportkleidung\, Turnschuhe mit dünner S
 ohle\, dicke Socken oder Gymnastikschläppchen mit.\nLeitung: Wilma Gilb\n
 3x Mi.\, 30.07. – 13.08.2025\n19.30 – 21.00 Uhr\n\n&nbsp\;\n\n251-05-6
 14\n 
CATEGORIES:Gesundheit &amp; Selbsterfahrung,Juli,Sport &amp; Bewegung
LOCATION:Vereinshaus Dornholzhausen\, Saalburgstr. 158\, Bad Homburg\, Deut
 schland
X-APPLE-STRUCTURED-LOCATION;VALUE=URI;X-ADDRESS=Saalburgstr. 158\, Bad Homb
 urg\, Deutschland;X-APPLE-RADIUS=100;X-TITLE=Vereinshaus Dornholzhausen:ge
 o:0,0
END:VEVENT
BEGIN:VTIMEZONE
TZID:Europe/Berlin
X-LIC-LOCATION:Europe/Berlin
BEGIN:DAYLIGHT
DTSTART:20250330T030000
TZOFFSETFROM:+0100
TZOFFSETTO:+0200
TZNAME:CEST
END:DAYLIGHT
END:VTIMEZONE
END:VCALENDAR