BEGIN:VCALENDAR
VERSION:2.0
PRODID:-//wp-events-plugin.com//7.2.3.1//EN
BEGIN:VEVENT
UID:122@frauenbildungszentrum.de
DTSTART;TZID=Europe/Berlin:20231101T193000
DTEND;TZID=Europe/Berlin:20231213T210000
DTSTAMP:20230705T152241Z
URL:https://www.frauenbildungszentrum.de/events/taijiquan-fuer-frauen-mit-
 erfahrung-3
SUMMARY:TaIjiquan für Frauen mit Erfahrung 3
DESCRIPTION:Taijiquan (auch Tai Chi Chuan) ist ein meditativer Weg\, um Ene
 rgieblockaden und körperliche Verspannungen aufzulösen und zu geistiger 
 Ruhe zu kommen.\nDurch regelmäßiges Üben können Sie dauerhaft Ihr kör
 perliches und geistiges Wohlbefinden steigern\, Energien tanken und im All
 tag gelassener werden. Im Kurs werden Teil 1 und 2 der Form Yang-Stil geü
 bt.\nDie Übungen werden ergänzt durch entspannende und dehnende Bodenüb
 ungen.\nBitte bringen Sie bequeme Sportkleidung\, Turnschuhe mit dünner S
 ohle\, dicke Socken oder Gymnastikschläppchen mit.\nLeitung: Wilma Gilb\n
 6 x Mi.\, 01.11. – 13.12.2023\n19.30 – 21.00 Uhr\nnicht am 29.11.2023\
 n\n&nbsp\;\n\n232-05-612\n 
CATEGORIES:Gesundheit &amp; Selbsterfahrung,November,Sport &amp; Bewegung
LOCATION:Vereinshaus Dornholzhausen\, Saalburgstr. 158\, Bad Homburg\, Deut
 schland
X-APPLE-STRUCTURED-LOCATION;VALUE=URI;X-ADDRESS=Saalburgstr. 158\, Bad Homb
 urg\, Deutschland;X-APPLE-RADIUS=100;X-TITLE=Vereinshaus Dornholzhausen:ge
 o:0,0
END:VEVENT
BEGIN:VTIMEZONE
TZID:Europe/Berlin
X-LIC-LOCATION:Europe/Berlin
BEGIN:STANDARD
DTSTART:20231029T020000
TZOFFSETFROM:+0200
TZOFFSETTO:+0100
TZNAME:CET
END:STANDARD
END:VTIMEZONE
END:VCALENDAR