BEGIN:VCALENDAR
VERSION:2.0
PRODID:-//wp-events-plugin.com//7.2.3.1//EN
BEGIN:VEVENT
UID:120@frauenbildungszentrum.de
DTSTART;TZID=Europe/Berlin:20260128T193000
DTEND;TZID=Europe/Berlin:20260325T210000
DTSTAMP:20251212T101409Z
URL:https://www.frauenbildungszentrum.de/events/taijiquan-fuer-frauen-mit-
 erfahrung-1
SUMMARY:TaIjiquan für Frauen mit Erfahrung 1
DESCRIPTION:Taijiquan (auch Tai Chi Chuan) ist ein meditativer Weg\, um Ene
 rgieblockaden und körperliche Verspannungen aufzulösen und zu geistiger 
 Ruhe zu kommen.\n\nDurch regelmäßiges Üben können Sie dauerhaft Ihr k
 örperliches und geistiges Wohlbefinden steigern\, Energien tanken und im 
 Alltag gelassener werden. Im Kurs werden Teil 1 und 2 der Form Yang-Stil g
 eübt.\n\nDie Übungen werden ergänzt durch entspannende und dehnende Bod
 enübungen.\n\nBitte bringen Sie bequeme Sportkleidung\, Turnschuhe mit d
 ünner Sohle\, dicke Socken oder Gymnastikschläppchen mit.\n\nEin Schnupp
 ertermin ist jederzeit möglich.\n\n&nbsp\;\nLeitung: Wilma Gilb\n9 x Mi.\
 , 28.01. – 25.03.2026\n19.30 – 21.00 Uhr\n\nOrt: Vereinshaus Dornholzh
 ausen\, Saalburgstr. 158\nAm 11.02.\, 18.02.\, 25.03. + 20.05.2026 findet 
 der Kurs im Frauenbildungszentrum statt.\n\n261-05-611
CATEGORIES:Gesundheit &amp; Selbsterfahrung,Januar,Sport &amp; Bewegung
LOCATION:Vereinshaus Dornholzhausen\, Saalburgstr. 158\, Bad Homburg\, Deut
 schland
X-APPLE-STRUCTURED-LOCATION;VALUE=URI;X-ADDRESS=Saalburgstr. 158\, Bad Homb
 urg\, Deutschland;X-APPLE-RADIUS=100;X-TITLE=Vereinshaus Dornholzhausen:ge
 o:0,0
END:VEVENT
BEGIN:VTIMEZONE
TZID:Europe/Berlin
X-LIC-LOCATION:Europe/Berlin
BEGIN:STANDARD
DTSTART:20251026T020000
TZOFFSETFROM:+0200
TZOFFSETTO:+0100
TZNAME:CET
END:STANDARD
END:VTIMEZONE
END:VCALENDAR