BEGIN:VCALENDAR
VERSION:2.0
PRODID:-//wp-events-plugin.com//7.2.3.1//EN
BEGIN:VEVENT
UID:79@frauenbildungszentrum.de
DTSTART;TZID=Europe/Berlin:20260101T000000
DTEND;TZID=Europe/Berlin:20261231T000000
DTSTAMP:20251216T171911Z
URL:https://www.frauenbildungszentrum.de/events/tabellenkalkulation-excel-
 einfuehrung
SUMMARY:Tabellenkalkulation  EXCEL – Einführung
DESCRIPTION:Voraussetzungen: Windows-Kenntnisse\nDieser Kurs vermittelt die
  Funktionsweise und Nutzung der Tabellenkalkulation Excel mit allen grunds
 ätzlichen Einsatzmöglichkeiten.\nKursinhalte:\n\n\n 	Grundeinstellungen 
 und Bildschirmaufbau\n 	Eingabemöglichkeiten von Zahlen\, Daten und Texte
 n\n 	Tabellen kopieren\, verschieben\, einfügen\, auffüllen\n 	Zellen\, 
 Spalten und Zeilen bearbeiten und formatieren\n 	Formeln und einfache Funk
 tionen\; Ausdrucken\n\nLeitung: Stefanie Fischer\n\nTermine auf Anfrage\nK
 ursdauer insgesamt\n6 Stunden\nMindestteilnehmerinnenzahl: 4\n\n&nbsp\;\n\
 n&nbsp\;\n\n261-01-401\n\n 
CATEGORIES:April,August,Computerkurse,Dezember,Februar,Januar,Juli,Juni,Ma
 i,März,November,Oktober,September
LOCATION:Frauenbildungszentrum\, Schöne Aussicht 24 \, Bad Homburg\, Hesse
 n\, 61348  \, Deutschland
X-APPLE-STRUCTURED-LOCATION;VALUE=URI;X-ADDRESS=Schöne Aussicht 24 \, Bad 
 Homburg\, Hessen\, 61348  \, Deutschland;X-APPLE-RADIUS=100;X-TITLE=Frauen
 bildungszentrum:geo:0,0
END:VEVENT
BEGIN:VTIMEZONE
TZID:Europe/Berlin
X-LIC-LOCATION:Europe/Berlin
BEGIN:STANDARD
DTSTART:20251026T020000
TZOFFSETFROM:+0200
TZOFFSETTO:+0100
TZNAME:CET
END:STANDARD
BEGIN:DAYLIGHT
DTSTART:20260329T030000
TZOFFSETFROM:+0100
TZOFFSETTO:+0200
TZNAME:CEST
END:DAYLIGHT
BEGIN:STANDARD
DTSTART:20261025T020000
TZOFFSETFROM:+0200
TZOFFSETTO:+0100
TZNAME:CET
END:STANDARD
END:VTIMEZONE
END:VCALENDAR