BEGIN:VCALENDAR
VERSION:2.0
PRODID:-//wp-events-plugin.com//7.2.3.1//EN
BEGIN:VEVENT
UID:157@frauenbildungszentrum.de
DTSTART;TZID=Europe/Berlin:20241023T193000
DTEND;TZID=Europe/Berlin:20241023T210000
DTSTAMP:20240701T152245Z
URL:https://www.frauenbildungszentrum.de/events/streit-beenden-2
SUMMARY:Streit beenden
DESCRIPTION:Mehr Nähe in Beziehungen leben\nWenn ständige Konflikte und i
 mmer wiederkehrende Streits die Partnerschaft dominieren\, ist es oft schw
 er\, den Ausstieg aus der Streitspirale zu schaffen. Häufig belasten alte
 \, unbewusste Muster die Paarbeziehung.\nWir beschäftigen uns damit\, wie
  man diese Muster sichtbar machen kann\, und wie Sie sich als Paar liebevo
 ller aufeinander einstimmen können.\nLeitung: Sabina Thiemeyer\nDieser Ku
 rs wird für Frauen und Männer angeboten.\nMittwoch\, 23. Oktober 2024\n1
 9.30 – 21.00 Uhr\n242-07-028
CATEGORIES:Gesundheit &amp; Selbsterfahrung,Oktober
LOCATION:Frauenbildungszentrum\, Schöne Aussicht 24 \, Bad Homburg\, Hesse
 n\, 61348  \, Deutschland
X-APPLE-STRUCTURED-LOCATION;VALUE=URI;X-ADDRESS=Schöne Aussicht 24 \, Bad 
 Homburg\, Hessen\, 61348  \, Deutschland;X-APPLE-RADIUS=100;X-TITLE=Frauen
 bildungszentrum:geo:0,0
END:VEVENT
BEGIN:VTIMEZONE
TZID:Europe/Berlin
X-LIC-LOCATION:Europe/Berlin
BEGIN:DAYLIGHT
DTSTART:20240331T030000
TZOFFSETFROM:+0100
TZOFFSETTO:+0200
TZNAME:CEST
END:DAYLIGHT
END:VTIMEZONE
END:VCALENDAR