BEGIN:VCALENDAR
VERSION:2.0
PRODID:-//wp-events-plugin.com//7.2.3.1//EN
BEGIN:VEVENT
UID:430@frauenbildungszentrum.de
DTSTART;TZID=Europe/Berlin:20240918T174500
DTEND;TZID=Europe/Berlin:20241120T191500
DTSTAMP:20240708T074258Z
URL:https://www.frauenbildungszentrum.de/events/stockkampf-2
SUMMARY:Stockkampf
DESCRIPTION:Mehr als Selbstverteidigung\nStockkampf ist eine Bezeichnung f
 ür verschiedene Kampfsportarten und Kampfkunststile\, bei denen ein kurze
 r oder langer Stock/Stab als Schlagwaffe eingesetzt wird. In diese\, in De
 utschland noch relativ unbekannte Art der Selbstverteidigung\, soll dieser
  Kurs einen Einblick geben.\nNeben einem Exkurs in die Geschichte erfahren
  Sie\, wie wir uns mit den Stöcken auf eine sanfte\, rhythmische Art ener
 getisch aufladen können\, Freude empfinden und uns und anderen Menschen r
 espektvoll begegnen.\nBei den praktischen Übungen nutzen wir kurze\, unge
 fähr unterarmlange Stöcke. Verschiedene tänzerische Elemente werden ein
 gebunden\, so dass Stockkampf als Kampfsport nicht im Vordergrund steht\, 
 vielmehr sollen Körper und Geist in Bewegung gebracht werden.\n\nDie Leih
 gebühr für die Stöcke ist im Kurspreis enthalten.\n\nLeitung: Uta Losse
 \n\n8 x Mi.\, 18.09. – 20.11.2024\n17.45 – 19.15 Uhr\nDer Kurs findet 
 auch in den Herbstferien statt\, aber nicht am 06.11. + 13.11.2024.\n\n&nb
 sp\;\n\n&nbsp\;\n\n242-05-922\n\n&nbsp\;
CATEGORIES:Gesundheit &amp; Selbsterfahrung,September,Sport &amp; Bewegung
LOCATION:Frauenbildungszentrum\, Schöne Aussicht 24 \, Bad Homburg\, Hesse
 n\, 61348  \, Deutschland
X-APPLE-STRUCTURED-LOCATION;VALUE=URI;X-ADDRESS=Schöne Aussicht 24 \, Bad 
 Homburg\, Hessen\, 61348  \, Deutschland;X-APPLE-RADIUS=100;X-TITLE=Frauen
 bildungszentrum:geo:0,0
END:VEVENT
BEGIN:VTIMEZONE
TZID:Europe/Berlin
X-LIC-LOCATION:Europe/Berlin
BEGIN:DAYLIGHT
DTSTART:20240331T030000
TZOFFSETFROM:+0100
TZOFFSETTO:+0200
TZNAME:CEST
END:DAYLIGHT
BEGIN:STANDARD
DTSTART:20241027T020000
TZOFFSETFROM:+0200
TZOFFSETTO:+0100
TZNAME:CET
END:STANDARD
END:VTIMEZONE
END:VCALENDAR