BEGIN:VCALENDAR
VERSION:2.0
PRODID:-//wp-events-plugin.com//7.2.3.1//EN
BEGIN:VEVENT
UID:82@frauenbildungszentrum.de
DTSTART;TZID=Europe/Berlin:20260414T100000
DTEND;TZID=Europe/Berlin:20260420T130000
DTSTAMP:20260421T104814Z
URL:https://www.frauenbildungszentrum.de/events/stimmbildung-nicht-nur-fue
 r-saengerinnen
SUMMARY:STIMMBILDUNG FÜR CHORSÄNGERINNEN/ Abgesagt
DESCRIPTION:Hilfen im Umgang mit der Stimme zur Verbesserung des gemeinsame
 n Chorklangs\nDieser Workshop richtet sich an alle Sängerinnen\, die in e
 inem Chor singen und die ihre Stimme trainieren möchten.\n\nBei diesem Ku
 rs wird mit vielen Übungen gemeinsam am eigenen Klang gearbeitet. Das pr
 äzise Hervorrufen von unterschiedlichen Klangfarben der eigenen Stimme bz
 w. der sichere Umgang mit ihr führt letztlich dazu\, dass sich z.B. der g
 emeinsame Chorklang verbessert.\n\nZiel des Workshops ist es\, die Möglic
 hkeiten der eigenen Singstimme besser kennen zu lernen und bewusst zu mach
 en\, worauf es ankommt um einen homogener Chorklang zu erzeugen.\n\n&nbsp\
 ;\n\n&nbsp\;\nLeitung: Lisa Wendel\nSamstag\, 25. April 2026\n10.00 – 13
 .00 Uhr\nMindestteilnehmerinnenzahl: 8\n\n \n261-04-301
CATEGORIES:April,Musik &amp; Tanz
LOCATION:Frauenbildungszentrum\, Schöne Aussicht 24 \, Bad Homburg\, Hesse
 n\, 61348  \, Deutschland
X-APPLE-STRUCTURED-LOCATION;VALUE=URI;X-ADDRESS=Schöne Aussicht 24 \, Bad 
 Homburg\, Hessen\, 61348  \, Deutschland;X-APPLE-RADIUS=100;X-TITLE=Frauen
 bildungszentrum:geo:0,0
END:VEVENT
BEGIN:VTIMEZONE
TZID:Europe/Berlin
X-LIC-LOCATION:Europe/Berlin
BEGIN:DAYLIGHT
DTSTART:20260329T030000
TZOFFSETFROM:+0100
TZOFFSETTO:+0200
TZNAME:CEST
END:DAYLIGHT
END:VTIMEZONE
END:VCALENDAR