BEGIN:VCALENDAR
VERSION:2.0
PRODID:-//wp-events-plugin.com//7.2.3.1//EN
BEGIN:VEVENT
UID:750@frauenbildungszentrum.de
DTSTART;TZID=Europe/Berlin:20250510T100000
DTEND;TZID=Europe/Berlin:20250510T130000
DTSTAMP:20250424T083056Z
URL:https://www.frauenbildungszentrum.de/events/stimmbildung-nicht-nur-fue
 r-saengerinnen-intensivierungskurs
SUMMARY:Stimmbildung nicht nur für Sängerinnen - Intensivierungskurs
DESCRIPTION:Hilfen im Umgang mit der Stimme\nDiese Workshops richten sich a
 n alle Sängerinnen\, die ihre Stimme trainieren möchten. Dabei spielt es
  keine Rolle\, ob Sie in einem Chor\, solistisch oder nur privat in den ei
 genen vier Wänden singen.\nBeim Kurs im Februar wird mit vielen Übungen 
 gemeinsam am eigenen Klang gearbeitet. Das präzise Hervorrufen von unters
 chiedlichen Klangfarben der eigenen Stimme führt letztlich dazu\, dass si
 ch z.B. der gemeinsame Chorklang verbessert oder ein solistischer Vortrag 
 besser interpretiert werden kann.\nZiel des Workshops ist es die Möglichk
 eiten der eigenen Singstimme besser kennen zu lernen und mit ihr besser um
 gehen zu können.\n\nDer Intensivierungskurs richtet sich an Frauen\, die 
 bereits einen Stimmbildungsworkshop bei der Referentin besucht haben und v
 ertiefend in das Thema einsteigen möchten. Aber auch Einsteigerinnen sind
  willkommen.\nLeitung: Lisa Wendel\nSamstag\, 10. Mai 2025\n10.00 – 13.0
 0 Uhr\n\nMindestteilnehmerinnenzahl: 8\n\n \n251-04-302
CATEGORIES:Mai,Musik &amp; Tanz
LOCATION:Frauenbildungszentrum\, Schöne Aussicht 24 \, Bad Homburg\, Hesse
 n\, 61348  \, Deutschland
X-APPLE-STRUCTURED-LOCATION;VALUE=URI;X-ADDRESS=Schöne Aussicht 24 \, Bad 
 Homburg\, Hessen\, 61348  \, Deutschland;X-APPLE-RADIUS=100;X-TITLE=Frauen
 bildungszentrum:geo:0,0
END:VEVENT
BEGIN:VTIMEZONE
TZID:Europe/Berlin
X-LIC-LOCATION:Europe/Berlin
BEGIN:DAYLIGHT
DTSTART:20250330T030000
TZOFFSETFROM:+0100
TZOFFSETTO:+0200
TZNAME:CEST
END:DAYLIGHT
END:VTIMEZONE
END:VCALENDAR