BEGIN:VCALENDAR
VERSION:2.0
PRODID:-//wp-events-plugin.com//7.2.3.1//EN
BEGIN:VEVENT
UID:83@frauenbildungszentrum.de
DTSTART;TZID=Europe/Berlin:20240504T100000
DTEND;TZID=Europe/Berlin:20240504T130000
DTSTAMP:20231220T090409Z
URL:https://www.frauenbildungszentrum.de/events/stimmbildung-nicht-nur-fue
 r-saengerinnen-2
SUMMARY:Rhytmik für Nicht-Rhythmiker
DESCRIPTION:„Rhythmik allein kann schon als Musik erscheinen.“\n(Zitat 
 Theodor Billroth)\nGerade bei Instrumenten\, die nicht perkussiv sind\, wi
 rd die Bedeutung der Rhythmik für das eigene Spiel oft unterschätzt.\nHa
 rmonie und Rhythmik sollten jedoch eine gleichberechtigte Rolle spielen.\n
 In diesem Workshop\, der sich an alle richtet\, egal ob Musiker oder einfa
 ch nur aus Interesse an der Rhythmik\, wird durch gezielte Übungen das Rh
 ythmusgefühl verbessert und gestärkt.\n\n&nbsp\;\nLeitung: Lisa Wendel\n
 Samstag\, 4. Mai 2024\n10.00 – 13.00 Uhr\nMindestteilnehmerinnenzahl: 8\
 n\n&nbsp\;\n241-04-302
CATEGORIES:Mai,Musik &amp; Tanz
LOCATION:Frauenbildungszentrum\, Schöne Aussicht 24 \, Bad Homburg\, Hesse
 n\, 61348  \, Deutschland
X-APPLE-STRUCTURED-LOCATION;VALUE=URI;X-ADDRESS=Schöne Aussicht 24 \, Bad 
 Homburg\, Hessen\, 61348  \, Deutschland;X-APPLE-RADIUS=100;X-TITLE=Frauen
 bildungszentrum:geo:0,0
END:VEVENT
BEGIN:VTIMEZONE
TZID:Europe/Berlin
X-LIC-LOCATION:Europe/Berlin
BEGIN:DAYLIGHT
DTSTART:20240331T030000
TZOFFSETFROM:+0100
TZOFFSETTO:+0200
TZNAME:CEST
END:DAYLIGHT
END:VTIMEZONE
END:VCALENDAR