BEGIN:VCALENDAR
VERSION:2.0
PRODID:-//wp-events-plugin.com//7.2.3.1//EN
BEGIN:VEVENT
UID:36@frauenbildungszentrum.de
DTSTART;TZID=Europe/Berlin:20260119T100000
DTEND;TZID=Europe/Berlin:20260323T113000
DTSTAMP:20251216T173649Z
URL:https://www.frauenbildungszentrum.de/events/spanisch-fuer-anfaengerinn
 en-ohne-vorkenntnisse
SUMMARY:Spanisch für Anfängerinnen OHNE Vorkenntnisse 1
DESCRIPTION:In diesem Kurs erwartet Sie eine Reise durch die spanische Kult
 ur mit lebensnahen und kommunikativen Lernsituationen\, die sich ideal fü
 r den Einstieg in die spanische Sprache eignen.\nDas Lehrbuch wird in der 
 ersten Kursstunde besprochen.\nLeitung: Addy Margelen Rojas Garavito \n 9
  x Mo.\, 19.01. – 23.03.2026\n10.00 – 11.30 Uhr\nnicht am 26.01.2026\n
 \n&nbsp\;\n261-03-111\n \n
CATEGORIES:Januar,Sprachkurse
LOCATION:Frauenbildungszentrum\, Schöne Aussicht 24 \, Bad Homburg\, Hesse
 n\, 61348  \, Deutschland
X-APPLE-STRUCTURED-LOCATION;VALUE=URI;X-ADDRESS=Schöne Aussicht 24 \, Bad 
 Homburg\, Hessen\, 61348  \, Deutschland;X-APPLE-RADIUS=100;X-TITLE=Frauen
 bildungszentrum:geo:0,0
END:VEVENT
BEGIN:VTIMEZONE
TZID:Europe/Berlin
X-LIC-LOCATION:Europe/Berlin
BEGIN:STANDARD
DTSTART:20251026T020000
TZOFFSETFROM:+0200
TZOFFSETTO:+0100
TZNAME:CET
END:STANDARD
END:VTIMEZONE
END:VCALENDAR