BEGIN:VCALENDAR
VERSION:2.0
PRODID:-//wp-events-plugin.com//7.2.3.1//EN
BEGIN:VEVENT
UID:432@frauenbildungszentrum.de
DTSTART;TZID=Europe/Berlin:20250428T113000
DTEND;TZID=Europe/Berlin:20250623T123000
DTSTAMP:20241211T195930Z
URL:https://www.frauenbildungszentrum.de/events/spanisch-fuer-anfaengerinn
 en-ohne-vorkenntnisse-3
SUMMARY:Spanisch für Anfängerinnen OHNE Vorkenntnisse 3
DESCRIPTION:In diesem Kurs erwartet Sie eine Reise durch die spanische Kult
 ur mit lebensnahen und kommunikativen Lernsituationen\, die sich ideal fü
 r den Einstieg in die spanische Sprache eignen.\nWir arbeiten mit dem Buch
  " Con Gusto A1" aus dem Klett Verlag.\nLeitung: Teresa Gómez González\n
 8 x Mo.\, 28.04. – 23.06.2025\n11.30 – 12.30 Uhr\n\n&nbsp\;\n251-03-11
 3\n
CATEGORIES:April,Sprachkurse
LOCATION:Frauenbildungszentrum\, Schöne Aussicht 24 \, Bad Homburg\, Hesse
 n\, 61348  \, Deutschland
X-APPLE-STRUCTURED-LOCATION;VALUE=URI;X-ADDRESS=Schöne Aussicht 24 \, Bad 
 Homburg\, Hessen\, 61348  \, Deutschland;X-APPLE-RADIUS=100;X-TITLE=Frauen
 bildungszentrum:geo:0,0
END:VEVENT
BEGIN:VTIMEZONE
TZID:Europe/Berlin
X-LIC-LOCATION:Europe/Berlin
BEGIN:DAYLIGHT
DTSTART:20250330T030000
TZOFFSETFROM:+0100
TZOFFSETTO:+0200
TZNAME:CEST
END:DAYLIGHT
END:VTIMEZONE
END:VCALENDAR