BEGIN:VCALENDAR
VERSION:2.0
PRODID:-//wp-events-plugin.com//7.2.3.1//EN
BEGIN:VEVENT
UID:37@frauenbildungszentrum.de
DTSTART;TZID=Europe/Berlin:20260413T100000
DTEND;TZID=Europe/Berlin:20260622T113000
DTSTAMP:20251216T173736Z
URL:https://www.frauenbildungszentrum.de/events/spanisch-fuer-anfaengerinn
 en-ohne-vorkenntnisse-2
SUMMARY:Spanisch für Anfängerinnen OHNE Vorkenntnisse 2
DESCRIPTION:In diesem Kurs erwartet Sie eine Reise durch die spanische Kult
 ur mit lebensnahen und kommunikativen Lernsituationen\, die sich ideal fü
 r den Einstieg in die spanische Sprache eignen.\nDas Lehrbuch wird in der 
 ersten Kursstunde besprochen.\nLeitung: Addy Margelen Rojas Garavito \n10 
 x Mo.\, 13.04. – 22.06.2026\n10.00 – 11.30 Uhr\nnicht am 25.5.2025\n\n
 &nbsp\;\n261-03-112\n
CATEGORIES:April,Sprachkurse
LOCATION:Frauenbildungszentrum\, Schöne Aussicht 24 \, Bad Homburg\, Hesse
 n\, 61348  \, Deutschland
X-APPLE-STRUCTURED-LOCATION;VALUE=URI;X-ADDRESS=Schöne Aussicht 24 \, Bad 
 Homburg\, Hessen\, 61348  \, Deutschland;X-APPLE-RADIUS=100;X-TITLE=Frauen
 bildungszentrum:geo:0,0
END:VEVENT
BEGIN:VTIMEZONE
TZID:Europe/Berlin
X-LIC-LOCATION:Europe/Berlin
BEGIN:DAYLIGHT
DTSTART:20260329T030000
TZOFFSETFROM:+0100
TZOFFSETTO:+0200
TZNAME:CEST
END:DAYLIGHT
END:VTIMEZONE
END:VCALENDAR