BEGIN:VCALENDAR
VERSION:2.0
PRODID:-//wp-events-plugin.com//7.2.3.1//EN
BEGIN:VEVENT
UID:39@frauenbildungszentrum.de
DTSTART;TZID=Europe/Berlin:20260413T113000
DTEND;TZID=Europe/Berlin:20260622T123000
DTSTAMP:20251210T153231Z
URL:https://www.frauenbildungszentrum.de/events/spanisch-fuer-anfaengerinn
 en-mit-geringen-kenntnissen-2
SUMMARY:Spanisch für Anfängerinnen mit geringen Kenntnissen 2
DESCRIPTION:In diesem Kurs erweitern Sie Ihre Grundkenntnisse der spanische
 n Sprache. Interessierte Frauen jeden Alters lernen Praktisches für Unter
 haltungen auf Reisen\, aber auch\, um in Alltagssituationen den Überblick
  zu behalten.\n\nDas Lehrbuch wird in der ersten Kursstunde besprochen.\n\
 n&nbsp\;\n\nLeitung: Addy Margelen Rojas Garavito \n\n10 x Mo.\, 13.04. 
 – 22.06.2026\n11.30 – 12.30 Uhr\nnicht am 25.05.2026\n\n&nbsp\;\n261-0
 3-122\n
CATEGORIES:April,Sprachkurse
LOCATION:Frauenbildungszentrum\, Schöne Aussicht 24 \, Bad Homburg\, Hesse
 n\, 61348  \, Deutschland
X-APPLE-STRUCTURED-LOCATION;VALUE=URI;X-ADDRESS=Schöne Aussicht 24 \, Bad 
 Homburg\, Hessen\, 61348  \, Deutschland;X-APPLE-RADIUS=100;X-TITLE=Frauen
 bildungszentrum:geo:0,0
END:VEVENT
BEGIN:VTIMEZONE
TZID:Europe/Berlin
X-LIC-LOCATION:Europe/Berlin
BEGIN:DAYLIGHT
DTSTART:20260329T030000
TZOFFSETFROM:+0100
TZOFFSETTO:+0200
TZNAME:CEST
END:DAYLIGHT
END:VTIMEZONE
END:VCALENDAR