BEGIN:VCALENDAR
VERSION:2.0
PRODID:-//wp-events-plugin.com//7.2.3.1//EN
BEGIN:VEVENT
UID:433@frauenbildungszentrum.de
DTSTART;TZID=Europe/Berlin:20250428T100000
DTEND;TZID=Europe/Berlin:20250623T113000
DTSTAMP:20241211T200538Z
URL:https://www.frauenbildungszentrum.de/events/spanisch-fuer-anfaengerinn
 en-mit-geringen-kenntnissen-1
SUMMARY:Spanisch für Anfängerinnen mit geringen Kenntnissen 3
DESCRIPTION:In diesem Kurs erweitern Sie Ihre Grundkenntnisse der spanische
 n Sprache. Interessierte Frauen jeden Alters lernen Praktisches für Unter
 haltungen auf Reisen\, aber auch\, um in Alltagssituationen den Überblick
  zu behalten.\nWir arbeiten mit den Büchern „Con Gusto A1 und A2“ aus
  dem Klett Verlag.\nLeitung: Teresa Gómez González\n\n8 x Mo.\, 28.04. 
 – 23.06.2025\n10.00 – 11.30 Uhr\n\n&nbsp\;\n251-03-123\n
CATEGORIES:April,Sprachkurse
LOCATION:Frauenbildungszentrum\, Schöne Aussicht 24 \, Bad Homburg\, Hesse
 n\, 61348  \, Deutschland
X-APPLE-STRUCTURED-LOCATION;VALUE=URI;X-ADDRESS=Schöne Aussicht 24 \, Bad 
 Homburg\, Hessen\, 61348  \, Deutschland;X-APPLE-RADIUS=100;X-TITLE=Frauen
 bildungszentrum:geo:0,0
END:VEVENT
BEGIN:VTIMEZONE
TZID:Europe/Berlin
X-LIC-LOCATION:Europe/Berlin
BEGIN:DAYLIGHT
DTSTART:20250330T030000
TZOFFSETFROM:+0100
TZOFFSETTO:+0200
TZNAME:CEST
END:DAYLIGHT
END:VTIMEZONE
END:VCALENDAR