BEGIN:VCALENDAR
VERSION:2.0
PRODID:-//wp-events-plugin.com//7.2.3.1//EN
BEGIN:VEVENT
UID:425@frauenbildungszentrum.de
DTSTART;TZID=Europe/Berlin:20240620T190000
DTEND;TZID=Europe/Berlin:20240620T210000
DTSTAMP:20240507T073052Z
URL:https://www.frauenbildungszentrum.de/events/sommerglanz-mit-froehliche
 n-maerchen-und-geschichten-im-ehemaligen-grand-hotel-in-bad-nauheim
SUMMARY:Sommerglanz mit fröhlichen Märchen und Geschichten im ehemaligen 
 Grand Hotel in Bad Nauheim
DESCRIPTION:Im privaten Rahmen mit Blick auf den Bad Nauheimer Kurpark erz
 ählt Michaele Scherenberg kraftvolle Sommermärchen von Freundschaft\, Li
 ebe und Aufbruch. Dazu gibt es einen kleinen Imbiss und Getränke.\nEin ku
 rzer Gang zum Trinkbrunnen schließt sich an. Natürlich genießen wir dab
 ei auch einen Schluck Gesundheitswasser.\n\nLeitung: Michaele Scherenberg\
 nVeranstaltungsort: "GrandLiving" Ernst-Ludwig-Ring 2\n61231 Bad Nauheim\n
 Treffpunkt: vor dem Eingang\n\nDonnerstag\, 20. Juni 2024\n19.00 – 21.00
  Uhr\n\n&nbsp\;\n241-12-104
CATEGORIES:Juni,Veranstaltungen
LOCATION:GrandLiving in Bad Nauheim\, Ernst-Ludwig-Ring 2\, Bad Nauheim\, 6
 1231\, Deutschland
X-APPLE-STRUCTURED-LOCATION;VALUE=URI;X-ADDRESS=Ernst-Ludwig-Ring 2\, Bad N
 auheim\, 61231\, Deutschland;X-APPLE-RADIUS=100;X-TITLE=GrandLiving in Bad
  Nauheim:geo:0,0
END:VEVENT
BEGIN:VTIMEZONE
TZID:Europe/Berlin
X-LIC-LOCATION:Europe/Berlin
BEGIN:DAYLIGHT
DTSTART:20240331T030000
TZOFFSETFROM:+0100
TZOFFSETTO:+0200
TZNAME:CEST
END:DAYLIGHT
END:VTIMEZONE
END:VCALENDAR