BEGIN:VCALENDAR
VERSION:2.0
PRODID:-//wp-events-plugin.com//7.2.3.1//EN
BEGIN:VEVENT
UID:418@frauenbildungszentrum.de
DTSTART;TZID=Europe/Berlin:20240626T183000
DTEND;TZID=Europe/Berlin:20240626T203000
DTSTAMP:20240521T091623Z
URL:https://www.frauenbildungszentrum.de/events/sommer-sonne-urlaub-aether
 ische-oele
SUMMARY:Sommer\, Sonne\, Urlaub: Ätherische Öle
DESCRIPTION:Wie ätherische Öle Sie durch die Urlaubszeit begleiten könne
 n - inkl. DIY Roll-on\nOb Sonnenbrandheiler\, Reiseübelkeit\, Insektenver
 treiber oder Magengrummeln: Ätherische Öle sind der perfekte Begleiter f
 ür die ganze Familie im Frühjahr und Sommer und lassen sich toll auf nat
 ürliche Weise in Ihre Reiseapotheke integrieren. Ätherische Öle sind ho
 chkonzentriert und besitzen eine beeindruckende Intensität und sind bei r
 ichtiger Anwendung für Kinder und Erwachsene gleichermaßen geeignet.\nWi
 e ätherische Öle wirken\, hergestellt werden\, welche Öle es gibt und w
 ie diese sich in unseren Alltag und vor allem in Ihre Familien-Reiseapothe
 ke integrieren lassen\, erfahren Sie an diesem Abend. Außerdem stellen Si
 e unter Anleitung einen 10 ml Roll-On zur Ersten Hilfe bei einem Mückenst
 ich her und erhalten wertvolle Tipps mit einfachen Rezepten\, z.B. für ei
 n pflegendes After-Sun-Spray bei einem Sonnenbrand. Für alle Gesundheits-
  und Wellnessinteressierten\, keine Vorkenntnisse nötig.\n\nIn der Kursge
 bühr sind € 7\,-- für den Roll-on enthalten.\nLeitung: Ute Kolbe\nMitt
 woch\, 26. Juni 2024\n18.30 – 20.30 Uhr\n\n&nbsp\;\n\n&nbsp\;\n\n241-07-
 006\n 
CATEGORIES:Gesundheit &amp; Selbsterfahrung,Juni
LOCATION:Frauenbildungszentrum\, Schöne Aussicht 24 \, Bad Homburg\, Hesse
 n\, 61348  \, Deutschland
X-APPLE-STRUCTURED-LOCATION;VALUE=URI;X-ADDRESS=Schöne Aussicht 24 \, Bad 
 Homburg\, Hessen\, 61348  \, Deutschland;X-APPLE-RADIUS=100;X-TITLE=Frauen
 bildungszentrum:geo:0,0
END:VEVENT
BEGIN:VTIMEZONE
TZID:Europe/Berlin
X-LIC-LOCATION:Europe/Berlin
BEGIN:DAYLIGHT
DTSTART:20240331T030000
TZOFFSETFROM:+0100
TZOFFSETTO:+0200
TZNAME:CEST
END:DAYLIGHT
END:VTIMEZONE
END:VCALENDAR