BEGIN:VCALENDAR
VERSION:2.0
PRODID:-//wp-events-plugin.com//7.2.3.1//EN
BEGIN:VEVENT
UID:911@frauenbildungszentrum.de
DTSTART;TZID=Europe/Berlin:20260314T170000
DTEND;TZID=Europe/Berlin:20260315T193000
DTSTAMP:20260212T093224Z
URL:https://www.frauenbildungszentrum.de/events/smartphones-optimal-nutzen
SUMMARY:Smartphones optimal nutzen
DESCRIPTION:Praxis-Workshop\nVoraussetzungen: PC- und Internet-Grundkenntni
 sse\nSmartphones bieten eine komplett neue Welt von Möglichkeiten für de
 n privaten und beruflichen Alltag.\nDieser Workshop ist für Frauen geeign
 et\, die noch wenig mit Smartphones arbeiten und stellt Ihnen Schritt für
  Schritt die wichtigsten Funktionen und Anwendungsmöglichkeiten vor\, auf
  die Sie jederzeit und überall zugreifen können.\nSie erfahren\, welche 
 Apps Sie nicht verpassen dürfen und wie Sie diese problemlos und praktisc
 h anwenden. Sie lernen\, wie Sie Ihre E-Mails abrufen und Musik\, Fotos un
 d Videos sinnvoll nutzen.\nBitte bringen Sie Ihr eigenes Gerät einschlie
 ßlich USB-Kabel und Netzteil mit.\nLeitung: Stefanie Fischer\nFreitag\,14
 . März 2026\n17.00 – 19.30 Uhr\,\nSamstag\, 15. März2026\n09.30 – 13
 .00 Uhr\nMindestteilnehmerinnenzahl: 4\n\n&nbsp\;\n\n261-01-901\n\n 
CATEGORIES:Computer Spezial,Computerkurse,März
LOCATION:Frauenbildungszentrum\, Schöne Aussicht 24 \, Bad Homburg\, Hesse
 n\, 61348  \, Deutschland
X-APPLE-STRUCTURED-LOCATION;VALUE=URI;X-ADDRESS=Schöne Aussicht 24 \, Bad 
 Homburg\, Hessen\, 61348  \, Deutschland;X-APPLE-RADIUS=100;X-TITLE=Frauen
 bildungszentrum:geo:0,0
END:VEVENT
BEGIN:VTIMEZONE
TZID:Europe/Berlin
X-LIC-LOCATION:Europe/Berlin
BEGIN:STANDARD
DTSTART:20251026T020000
TZOFFSETFROM:+0200
TZOFFSETTO:+0100
TZNAME:CET
END:STANDARD
END:VTIMEZONE
END:VCALENDAR