BEGIN:VCALENDAR
VERSION:2.0
PRODID:-//wp-events-plugin.com//7.2.3.1//EN
BEGIN:VEVENT
UID:567@frauenbildungszentrum.de
DTSTART;TZID=Europe/Berlin:20260222T100000
DTEND;TZID=Europe/Berlin:20260222T160000
DTSTAMP:20251212T111616Z
URL:https://www.frauenbildungszentrum.de/events/skulpturen-aus-der-stille-
 keramik-workshop
SUMMARY:Skulpturen aus der Stille - Keramik-Workshop 1
DESCRIPTION:Erleben Sie einen inspirierenden und entspannten Tag in einem i
 dyllisch gelegenen Kunstatelier inmitten hügeliger Naturlandschaft im Tau
 nus. In diesem ganztägigen Keramik-Workshop widmen wir uns der Gestaltung
  individueller Skulpturen aus Ton. Vorkenntnisse oder vorbereitete Ideen s
 ind nicht erforderlich – ich begleite Sie mit Einfühlungsvermögen\, kr
 eativen Übungen und unkonventionellen Impulsen auf Ihrem eigenen Weg zur 
 passenden Form und zum persönlichen Ausdruck.\n\nDie ruhige\, achtsame At
 mosphäre des Ateliers lädt dazu ein\, zur Ruhe zu kommen und die eigene 
 Kreativität zu entdecken. Ihre entstandenen Werke können Sie am Ende des
  Tages direkt mit nach Hause nehmen – als bleibende Erinnerung an eine b
 esondere Auszeit.\n\nEin Brennen der Skulpturen ist nicht notwendig.\n\nBi
 tte bringen Sie für die Mittagspause eine eigene Verpflegung mit\, da es 
 vor Ort keine Einkaufsmöglichkeiten gibt. Warme Getränke und kleine Snac
 ks stehen zur Verfügung.\n\n( Es entstehen Materialkosten in Höhe von 
 € 15\,--\, die direkt an die Referentin zu zahlen sind. )\nLeitung: Laur
 a Sebestyén-Kohler\nSonntag\, 22. Februar 2026\n10.00 – 16.00 Uhr\nmaxi
 mal 6 Teilnehmerinnen\n261-06-004
CATEGORIES:Februar,Kreatives
LOCATION:Atelier Sebestyén\, Hanggasse 6\, 61276 Weilrod-Oberlauken\, 6134
 8\, Deutschland
X-APPLE-STRUCTURED-LOCATION;VALUE=URI;X-ADDRESS=Hanggasse 6\, 61276 Weilrod
 -Oberlauken\, 61348\, Deutschland;X-APPLE-RADIUS=100;X-TITLE=Atelier Sebes
 tyén:geo:0,0
END:VEVENT
BEGIN:VTIMEZONE
TZID:Europe/Berlin
X-LIC-LOCATION:Europe/Berlin
BEGIN:STANDARD
DTSTART:20251026T020000
TZOFFSETFROM:+0200
TZOFFSETTO:+0100
TZNAME:CET
END:STANDARD
END:VTIMEZONE
END:VCALENDAR