BEGIN:VCALENDAR
VERSION:2.0
PRODID:-//wp-events-plugin.com//7.2.3.1//EN
BEGIN:VEVENT
UID:57@frauenbildungszentrum.de
DTSTART;TZID=Europe/Berlin:20230315T180000
DTEND;TZID=Europe/Berlin:20230315T200000
DTSTAMP:20230315T093936Z
URL:https://www.frauenbildungszentrum.de/events/sinnkrisen-meistern-mit-ae
 therischen-oelen
SUMMARY:Sinnkrisen meistern mit ätherischen Ölen
DESCRIPTION:Viele kennen das Gefühl. Man spürt ein aufregendes Kribbeln u
 nd fühlt\, dass ein neuer Lebensabschnitt unausweichlich auf einen zukomm
 t.\n\nVeränderungen\, Hindernisse und Herausforderungen sind in Ihrem Leb
 en aber bisher Garanten für Widerstand\, Angst und Zweifel und nicht für
  Chancen\, Wachstum und Persönlichkeitsentwicklung.\n\nAn diesem Abend ze
 ige ich Ihnen\, wie Sie sich nicht verloren fühlen\, sondern mit Zuversic
 ht und Hoffnung den Übergängen im Leben entgegengehen und wie der Einsat
 z ätherischer Öle dabei helfen kann. So haben Sie Ihr Ziel klar vor Auge
 n und sind bereit\, Zweifel beiseite zu schieben\, um Ihren Weg in den neu
 en Lebensabschnitt mit Freude und Kraft zu gehen.\n\nLeitung: Vanessa Corr
 ado\n\nMittwoch\, 15. März 2023\n18.00 – 20.00 Uhr\n\n( Es entstehen no
 ch Materialkosten in Höhe von € 19\,--\, die direkt an die Referentin z
 u zahlen sind. )\n\n231-07-019
CATEGORIES:Gesundheit &amp; Selbsterfahrung,März
LOCATION:Frauenbildungszentrum\, Schöne Aussicht 24 \, Bad Homburg\, Hesse
 n\, 61348  \, Deutschland
X-APPLE-STRUCTURED-LOCATION;VALUE=URI;X-ADDRESS=Schöne Aussicht 24 \, Bad 
 Homburg\, Hessen\, 61348  \, Deutschland;X-APPLE-RADIUS=100;X-TITLE=Frauen
 bildungszentrum:geo:0,0
END:VEVENT
BEGIN:VTIMEZONE
TZID:Europe/Berlin
X-LIC-LOCATION:Europe/Berlin
BEGIN:STANDARD
DTSTART:20221030T020000
TZOFFSETFROM:+0200
TZOFFSETTO:+0100
TZNAME:CET
END:STANDARD
END:VTIMEZONE
END:VCALENDAR