BEGIN:VCALENDAR
VERSION:2.0
PRODID:-//wp-events-plugin.com//7.2.3.1//EN
BEGIN:VEVENT
UID:62@frauenbildungszentrum.de
DTSTART;TZID=Europe/Berlin:20250926T180000
DTEND;TZID=Europe/Berlin:20250926T200000
DTSTAMP:20250704T112404Z
URL:https://www.frauenbildungszentrum.de/events/sind-sie-hochsensibel
SUMMARY:Sind sie hochsensibel?
DESCRIPTION:Kennen Sie diese Aussagen:\nSei nicht so empfindlich! Stell Dic
 h nicht so an! Leg Dir mal ein dickeres Fell zu! Fühlen Sie sich oft dün
 nhäutig? Lärmempfindlich? Lieben Sie eher die Stille als laute Veranstal
 tungen? Werden Sie als schüchtern eingeschätzt? Fühlen Sie sich deswege
 n manchmal anders als andere? Sie haben aber auch ein reiches Innenleben\,
  können gut zuhören\, mit anderen mitfühlen und haben eine rasche Auffa
 ssungsgabe?\nHochsensibilität ist eine besondere Gabe! In meinem Vortrag 
 möchte ich über Hochsensibilität informieren\, Anregungen geben\, um si
 ch und andere besser zu verstehen und wertschätzend damit umzugehen.\nLei
 tung: Claudia Lange\nFreitag\, 26. September 2025\n18.00 – 20.00 Uhr\n\n
 &nbsp\;\n\n252-07-007\n 
CATEGORIES:Gesundheit &amp; Selbsterfahrung,September
LOCATION:Frauenbildungszentrum\, Schöne Aussicht 24 \, Bad Homburg\, Hesse
 n\, 61348  \, Deutschland
X-APPLE-STRUCTURED-LOCATION;VALUE=URI;X-ADDRESS=Schöne Aussicht 24 \, Bad 
 Homburg\, Hessen\, 61348  \, Deutschland;X-APPLE-RADIUS=100;X-TITLE=Frauen
 bildungszentrum:geo:0,0
END:VEVENT
BEGIN:VTIMEZONE
TZID:Europe/Berlin
X-LIC-LOCATION:Europe/Berlin
BEGIN:DAYLIGHT
DTSTART:20250330T030000
TZOFFSETFROM:+0100
TZOFFSETTO:+0200
TZNAME:CEST
END:DAYLIGHT
END:VTIMEZONE
END:VCALENDAR