BEGIN:VCALENDAR
VERSION:2.0
PRODID:-//wp-events-plugin.com//7.2.3.1//EN
BEGIN:VEVENT
UID:77@frauenbildungszentrum.de
DTSTART;TZID=Europe/Berlin:20230807T090000
DTEND;TZID=Europe/Berlin:20230811T123000
DTSTAMP:20230710T102138Z
URL:https://www.frauenbildungszentrum.de/events/sicherheit-im-netz-fuer-ki
 nder-ab-8-jahren
SUMMARY:Sicherheit im Netz für Kinder ab 8 Jahren
DESCRIPTION:Voraussetzungen: keine Vorkenntnisse erforderlich\nDie Gefahren
 \, die im Internet lauern\, kann man leider nicht vernachlässigen. Gerade
  Kinder und Jugendliche sind besonders gefährdet. Sei es sexuelle Beläst
 igung\, Abzocke oder Cybermobbing.\nIn dieser Woche lernen die Kinder und 
 Jugendlichen die Gefahren zu erkennen und sich dagegen zu schützen. Wir s
 prechen unter anderem über sichere Passwörter\, Persönlichkeitsrechte\,
  Cybermobbing und Ähnliches.\nAuch Kindersuchmaschinen und Wartungsarbeit
 en am Computer werden dabei eine Rolle spielen.\nLeitung: Birgit Henrici\n
 5 Tage in den Sommerferien\n\nMo. – Fr.\, 07.08. – 11.08.2023\n\n09.30
  – 12.30 Uhr\n\nMindestteilnehmerzahl: 5\n231-10-103\n
CATEGORIES:August,Computerkurse,Kinder &amp; Jugendliche
LOCATION:Frauenbildungszentrum\, Schöne Aussicht 24 \, Bad Homburg\, Hesse
 n\, 61348  \, Deutschland
X-APPLE-STRUCTURED-LOCATION;VALUE=URI;X-ADDRESS=Schöne Aussicht 24 \, Bad 
 Homburg\, Hessen\, 61348  \, Deutschland;X-APPLE-RADIUS=100;X-TITLE=Frauen
 bildungszentrum:geo:0,0
END:VEVENT
BEGIN:VTIMEZONE
TZID:Europe/Berlin
X-LIC-LOCATION:Europe/Berlin
BEGIN:DAYLIGHT
DTSTART:20230326T030000
TZOFFSETFROM:+0100
TZOFFSETTO:+0200
TZNAME:CEST
END:DAYLIGHT
END:VTIMEZONE
END:VCALENDAR