BEGIN:VCALENDAR
VERSION:2.0
PRODID:-//wp-events-plugin.com//7.2.3.1//EN
BEGIN:VEVENT
UID:46@frauenbildungszentrum.de
DTSTART;TZID=Europe/Berlin:20260306T180000
DTEND;TZID=Europe/Berlin:20260306T210000
DTSTAMP:20251216T172608Z
URL:https://www.frauenbildungszentrum.de/events/sicherheit-im-internet
SUMMARY:Sicherheit im Internet
DESCRIPTION:Voraussetzungen: PC- und Internet-Grundkenntnisse\nDieser Kurs 
 zeigt\, wie man sich vor Gefahren im Internet schützen kann.\nWährend fr
 üher nur Netzwerke von Unternehmen oder öffentlichen Einrichtungen Ziel 
 von Cyberangriffen waren\, ist heutzutage jeder der Gefahr ausgesetzt\, du
 rch unzureichende Kenntnisse Opfer von Internetkriminellen zu werden.\nKur
 sinhalte:\n\n\n 	Viren\, Würmer\, Trojaner &amp\; Co.\n 	Firewalls - Sich
 erheit für Netzwerke\n 	Sicherheitseinstellungen im Browser\n 	Verschiede
 ne Benutzerkonten einrichten\n 	Dateianhänge in E-Mails\n 	Verschlüsselu
 ng von Daten\n 	Sicherheit im Online-Banking\, Anonymität im Internet\n 	
 Sicherer Umgang mit Passwörtern\n\nLeitung: Stefanie Fischer\nFreitag\, 0
 6. März 2026\n18.00 – 21.00 Uhr\nMindestteilnehmerinnenzahl: 4\n\n261-0
 1-303\n\n 
CATEGORIES:Computer Spezial,Computerkurse,März
LOCATION:Frauenbildungszentrum\, Schöne Aussicht 24 \, Bad Homburg\, Hesse
 n\, 61348  \, Deutschland
X-APPLE-STRUCTURED-LOCATION;VALUE=URI;X-ADDRESS=Schöne Aussicht 24 \, Bad 
 Homburg\, Hessen\, 61348  \, Deutschland;X-APPLE-RADIUS=100;X-TITLE=Frauen
 bildungszentrum:geo:0,0
END:VEVENT
BEGIN:VTIMEZONE
TZID:Europe/Berlin
X-LIC-LOCATION:Europe/Berlin
BEGIN:STANDARD
DTSTART:20251026T020000
TZOFFSETFROM:+0200
TZOFFSETTO:+0100
TZNAME:CET
END:STANDARD
END:VTIMEZONE
END:VCALENDAR