BEGIN:VCALENDAR
VERSION:2.0
PRODID:-//wp-events-plugin.com//7.2.3.1//EN
BEGIN:VEVENT
UID:53@frauenbildungszentrum.de
DTSTART;TZID=Europe/Berlin:20260328T090000
DTEND;TZID=Europe/Berlin:20260328T130000
DTSTAMP:20251212T120551Z
URL:https://www.frauenbildungszentrum.de/events/selbstheilungskraefte-akti
 vieren-mit-akupressur
SUMMARY:Selbstheilungskräfte aktivieren mit Akupressur
DESCRIPTION:Die Akupressur ist Teil der Traditionellen Chinesischen Medizin
  (TCM). Mit den Fingern wird Druck auf bestimmte Punkte ausgeübt. Der Dru
 ck soll Blockaden auflösen und Lebensenergie wieder zum Fließen bringen.
 \n\nSie lernen die wichtigsten Punkte kennen. Diese beinhalten Notfall- un
 d Schmerzpunkte\, sowie Punkte zur Entspannung und Regeneration.\n\nMit de
 n eigenen Händen kann diese Behandlung bequem an sich selbst oder an ande
 ren Personen geführt werden.\n\nLeitung: Freia Meike Steinhäuser\n\nSams
 tag\, 28. März 2026\n09.00 – 13.00 Uhr\n\n&nbsp\;\n\n261-07-009
CATEGORIES:Gesundheit &amp; Selbsterfahrung,März
LOCATION:Frauenbildungszentrum\, Schöne Aussicht 24 \, Bad Homburg\, Hesse
 n\, 61348  \, Deutschland
X-APPLE-STRUCTURED-LOCATION;VALUE=URI;X-ADDRESS=Schöne Aussicht 24 \, Bad 
 Homburg\, Hessen\, 61348  \, Deutschland;X-APPLE-RADIUS=100;X-TITLE=Frauen
 bildungszentrum:geo:0,0
END:VEVENT
BEGIN:VTIMEZONE
TZID:Europe/Berlin
X-LIC-LOCATION:Europe/Berlin
BEGIN:STANDARD
DTSTART:20251026T020000
TZOFFSETFROM:+0200
TZOFFSETTO:+0100
TZNAME:CET
END:STANDARD
END:VTIMEZONE
END:VCALENDAR