BEGIN:VCALENDAR
VERSION:2.0
PRODID:-//wp-events-plugin.com//7.2.3.1//EN
BEGIN:VEVENT
UID:55@frauenbildungszentrum.de
DTSTART;TZID=Europe/Berlin:20251128T193000
DTEND;TZID=Europe/Berlin:20251128T213000
DTSTAMP:20250704T141141Z
URL:https://www.frauenbildungszentrum.de/events/schamanische-heil-reise
SUMMARY:Schamanische (Heil-)reise
DESCRIPTION:Schamanismus ist ein Energiesystem\, das seit mehr als 5000 Jah
 ren in Südamerika praktiziert wird. Es wurde von Generation zu Generation
  mündlich überliefert. Bis heute hat es nichts von seiner Gültigkeit ve
 rloren und die Grundgedanken dieses Systems werden erläutert. Da sich Sch
 amanismus nicht mit dem Verstand begreifen lässt\, hast du die Möglichke
 it\, nach einer kurzen Einführung erste Erfahrungen durch eine geführte 
 schamanische Heilreise zu machen.\n\nWährend dieser Heilreise kannst du a
 n einem Thema körperlicher oder seelischer Art arbeiten\, dass Dich zurze
 it am meisten belastet. Bitte bringe einen Stein\, der gut in die Hand pas
 st mit sowie eine Matte und eine Decke.\n\nLeitung: Uta Johannsen\n\nFreit
 ag\, 28. November 2025\n19.30 – 21.30 Uhr\n\n&nbsp\;\n\nDieser Kurs wird
  für Frauen und Männer angeboten.\n\n252-07-008\n\n 
CATEGORIES:Gesundheit &amp; Selbsterfahrung,November
LOCATION:Frauenbildungszentrum\, Schöne Aussicht 24 \, Bad Homburg\, Hesse
 n\, 61348  \, Deutschland
X-APPLE-STRUCTURED-LOCATION;VALUE=URI;X-ADDRESS=Schöne Aussicht 24 \, Bad 
 Homburg\, Hessen\, 61348  \, Deutschland;X-APPLE-RADIUS=100;X-TITLE=Frauen
 bildungszentrum:geo:0,0
END:VEVENT
BEGIN:VTIMEZONE
TZID:Europe/Berlin
X-LIC-LOCATION:Europe/Berlin
BEGIN:STANDARD
DTSTART:20251026T020000
TZOFFSETFROM:+0200
TZOFFSETTO:+0100
TZNAME:CET
END:STANDARD
END:VTIMEZONE
END:VCALENDAR