BEGIN:VCALENDAR
VERSION:2.0
PRODID:-//wp-events-plugin.com//7.2.3.1//EN
BEGIN:VEVENT
UID:762@frauenbildungszentrum.de
DTSTART;TZID=Europe/Berlin:20250328T163000
DTEND;TZID=Europe/Berlin:20250627T173000
DTSTAMP:20250325T143441Z
URL:https://www.frauenbildungszentrum.de/events/rueckengymnastik-3
SUMMARY:Rückengymnastik 3
DESCRIPTION:Mehr Beweglichkeit durch gezieltes Training\nRückengymnastik h
 ilft\, einseitig belastenden Haltungsgewohnheiten\, die auf Dauer zu Versp
 annungen und Rückenbeschwerden führen\, durch funktionale Übungen entge
 gen zu wirken.\nDie Schwerpunkte liegen in Übungen zur Kräftigung und Mo
 bilisierung der Rumpfmuskulatur und Entlastung der Wirbelsäule\, Haltungs
 aufbau\, Verbesserung der Gelenkigkeit und Dehnfähigkeit sowie Tipps zur 
 Vermeidung von Fehlhaltungen im Alltag.\nLeitung: Melanie Kuhn\n7 x Fr.\, 
 28.03. – 27.06.2025\n16.30 – 17.30 Uhr\nnicht am 02.05.\, 09.05.\, 30.
 05.\, 13.06. +20.06.2025\n\n&nbsp\;\n\n251-05-909\n
CATEGORIES:Gesundheit &amp; Selbsterfahrung,März,Sport &amp; Bewegung
LOCATION:Frauenbildungszentrum\, Schöne Aussicht 24 \, Bad Homburg\, Hesse
 n\, 61348  \, Deutschland
X-APPLE-STRUCTURED-LOCATION;VALUE=URI;X-ADDRESS=Schöne Aussicht 24 \, Bad 
 Homburg\, Hessen\, 61348  \, Deutschland;X-APPLE-RADIUS=100;X-TITLE=Frauen
 bildungszentrum:geo:0,0
END:VEVENT
BEGIN:VTIMEZONE
TZID:Europe/Berlin
X-LIC-LOCATION:Europe/Berlin
BEGIN:STANDARD
DTSTART:20241027T020000
TZOFFSETFROM:+0200
TZOFFSETTO:+0100
TZNAME:CET
END:STANDARD
BEGIN:DAYLIGHT
DTSTART:20250330T030000
TZOFFSETFROM:+0100
TZOFFSETTO:+0200
TZNAME:CEST
END:DAYLIGHT
END:VTIMEZONE
END:VCALENDAR