BEGIN:VCALENDAR
VERSION:2.0
PRODID:-//wp-events-plugin.com//7.2.3.1//EN
BEGIN:VEVENT
UID:97@frauenbildungszentrum.de
DTSTART;TZID=Europe/Berlin:20260422T193000
DTEND;TZID=Europe/Berlin:20260422T213000
DTSTAMP:20260210T093418Z
URL:https://www.frauenbildungszentrum.de/events/richtig-erben-und-vererben
SUMMARY:Richtig erben und vererben
DESCRIPTION:Im Rahmen dieses Vortrages sollen die Grundzüge des Erbrechts 
 erläutert werden.\nDie richtige Erstellung eines Testamentes\, Regelungen
  zum Pflichtteilsrecht und zur Erbschaftssteuer sowie Einsparungsmöglichk
 eiten derselben sind ebenfalls Themen dieses Abends.\nLeitung: Christian W
 inter\nMittwoch\, 22. April 2026\n19.30 – 21.30 Uhr\nMindestteilnehmerza
 hl: 8\n\n&nbsp\;\n\n261-08-001\nDieser Kurs wird für Frauen und Männer a
 ngeboten.
CATEGORIES:April,Beruf &amp; Finanzen,Recht
LOCATION:Frauenbildungszentrum\, Schöne Aussicht 24 \, Bad Homburg\, Hesse
 n\, 61348  \, Deutschland
X-APPLE-STRUCTURED-LOCATION;VALUE=URI;X-ADDRESS=Schöne Aussicht 24 \, Bad 
 Homburg\, Hessen\, 61348  \, Deutschland;X-APPLE-RADIUS=100;X-TITLE=Frauen
 bildungszentrum:geo:0,0
END:VEVENT
BEGIN:VTIMEZONE
TZID:Europe/Berlin
X-LIC-LOCATION:Europe/Berlin
BEGIN:DAYLIGHT
DTSTART:20260329T030000
TZOFFSETFROM:+0100
TZOFFSETTO:+0200
TZNAME:CEST
END:DAYLIGHT
END:VTIMEZONE
END:VCALENDAR