BEGIN:VCALENDAR
VERSION:2.0
PRODID:-//wp-events-plugin.com//7.2.3.1//EN
BEGIN:VEVENT
UID:413@frauenbildungszentrum.de
DTSTART;TZID=Europe/Berlin:20251111T190000
DTEND;TZID=Europe/Berlin:20251111T210000
DTSTAMP:20250704T141354Z
URL:https://www.frauenbildungszentrum.de/events/resilienz
SUMMARY:Resilienz
DESCRIPTION:Der Königsweg aus der Krise\nWer kennt sie nicht\, die Krisen 
 und Schicksalsschläge des Lebens. Manche Menschen gehen jedoch damit gela
 ssener um als andere. Was ist das Geheimnis von Menschen\, die Schicksalss
 chläge im Leben scheinbar mit Leichtigkeit bewältigen\, während andere 
 daran zerbrechen? Der gut gemeinte Ratschlag „Hinfallen - Krönchen rich
 ten - aufstehen“ reicht nicht immer aus\, wenn es einem schlecht geht.\n
 Was jedoch hilft\, mit Krisen souveräner umzugehen\, ist eine gewisse Ein
 stellung dem Leben gegenüber – die Resilienz. Resilienz ist die Fähigk
 eit eines Menschen\, Herausforderungen und Schicksalsschläge unbeschadet 
 für Körper und Seele zu überstehen. Dabei ist Resilienz nichts\, was de
 r eine von Geburt an hat und der andere nicht. Dieses kann trainiert werde
 n.\nLernen Sie die wichtigsten Schritte kennen\, um in Zukunft einfach lei
 chter und entspannter durchs Leben zu gehen.\n\n&nbsp\;\n\n&nbsp\;\nLeitun
 g: Daniela Herrmann\nDienstag\, 11. November 2025\n19.00 – 21.00 Uhr\n\n
 &nbsp\;\n\n252-07-016\n
CATEGORIES:Gesundheit &amp; Selbsterfahrung,November
LOCATION:Frauenbildungszentrum\, Schöne Aussicht 24 \, Bad Homburg\, Hesse
 n\, 61348  \, Deutschland
X-APPLE-STRUCTURED-LOCATION;VALUE=URI;X-ADDRESS=Schöne Aussicht 24 \, Bad 
 Homburg\, Hessen\, 61348  \, Deutschland;X-APPLE-RADIUS=100;X-TITLE=Frauen
 bildungszentrum:geo:0,0
END:VEVENT
BEGIN:VTIMEZONE
TZID:Europe/Berlin
X-LIC-LOCATION:Europe/Berlin
BEGIN:STANDARD
DTSTART:20251026T020000
TZOFFSETFROM:+0200
TZOFFSETTO:+0100
TZNAME:CET
END:STANDARD
END:VTIMEZONE
END:VCALENDAR