BEGIN:VCALENDAR
VERSION:2.0
PRODID:-//wp-events-plugin.com//7.2.3.1//EN
BEGIN:VEVENT
UID:409@frauenbildungszentrum.de
DTSTART;TZID=Europe/Berlin:20241113T183000
DTEND;TZID=Europe/Berlin:20241113T203000
DTSTAMP:20240628T161532Z
URL:https://www.frauenbildungszentrum.de/events/raumgestaltung-nach-vastu-
 frische-energie-im-homeoffice
SUMMARY:Raumgestaltung nach Vastu - frische Energie im Homeoffice
DESCRIPTION:Sicher kennen Sie das auch\, Sie betreten einen Raum und fühle
 n sich rundum wohl! – oder Sie haben das Gefühl\, dass Sie den Raum lie
 ber gleich wieder verlassen möchten.\nWarum ist das so? Was macht die Qua
 lität unserer Räume aus? Antworten finden wir im Vastu\, der indischen A
 rchitektur- und Raumlehre\, die mit dem Ayurveda verwandt ist.\nWir besch
 äftigen uns mit der Wirkung des Raumes auf den Menschen.\nAn diesem Abend
  betrachten wir den Raum zum Arbeiten ganzheitlich mit all seinen Aspekten
 : der Ausrichtung\, der Form\, den Möbeln und auch der Farbe und der Mate
 rialien.\nEgal ob Wohnräume\, Büro oder Homeoffice was braucht der Raum 
 um\, z.B. zu einem gesunden Arbeitsplatz oder sogar zu Ihrem Kraftplatz zu
  werden?\nLernen Sie eine neue Sichtweise kennen\, und nehmen Sie Inspirat
 ionen für die Gestaltung Ihres Homeoffice mit. Denn im Vastu heißt es: 
 „Glück im Leben ist planbar.“\n\nDieser Kurs wird in Kooperation mit 
 der Katholischen Erwachsenenbildung\, Bildungswerk Hochtaunus angeboten.\n
 Leitung: Nicole Garrelts\nMittwoch\, 13. November 2024\n18.30 – 20.30 Uh
 r\n\n242-07-029\n\n \n 
CATEGORIES:Gesundheit &amp; Selbsterfahrung,November
LOCATION:Frauenbildungszentrum\, Schöne Aussicht 24 \, Bad Homburg\, Hesse
 n\, 61348  \, Deutschland
X-APPLE-STRUCTURED-LOCATION;VALUE=URI;X-ADDRESS=Schöne Aussicht 24 \, Bad 
 Homburg\, Hessen\, 61348  \, Deutschland;X-APPLE-RADIUS=100;X-TITLE=Frauen
 bildungszentrum:geo:0,0
END:VEVENT
BEGIN:VTIMEZONE
TZID:Europe/Berlin
X-LIC-LOCATION:Europe/Berlin
BEGIN:STANDARD
DTSTART:20241027T020000
TZOFFSETFROM:+0200
TZOFFSETTO:+0100
TZNAME:CET
END:STANDARD
END:VTIMEZONE
END:VCALENDAR