BEGIN:VCALENDAR
VERSION:2.0
PRODID:-//wp-events-plugin.com//7.2.3.1//EN
BEGIN:VEVENT
UID:410@frauenbildungszentrum.de
DTSTART;TZID=Europe/Berlin:20241120T183000
DTEND;TZID=Europe/Berlin:20241120T203000
DTSTAMP:20240628T161912Z
URL:https://www.frauenbildungszentrum.de/events/raumgestaltung-nach-vastu-
 entspannt-schlafen
SUMMARY:Raumgestaltung nach Vastu - entspannt schlafen
DESCRIPTION:Sicher kennen Sie das auch\, Sie betreten einen Raum und fühle
 n sich rundum wohl! – oder Sie haben das Gefühl\, dass Sie den Raum lie
 ber gleich wieder verlassen möchten.\nWarum ist das so? Was macht die Qua
 lität unserer Räume aus? Antworten finden wir im Vastu\, der indischen A
 rchitektur- und Raumlehre\, die mit dem Ayurveda verwandt ist.\nWir besch
 äftigen uns mit der Wirkung des Raumes auf den Menschen.\nAn diesem Abend
  betrachten wir den Raum zum Schlafen ganzheitlich mit all seinen Aspekten
 : der Ausrichtung\, der Form\, den Möbeln\, der Farben und Materialien.\n
 Lernen Sie eine neue Sichtweise kennen\, und nehmen Sie Inspirationen für
  die Gestaltung Ihres Schlafzimmers mit\, damit Ihr Schlafzimmer ein Ort d
 er Entspannung und Erholung wird. Denn Im Vastu heißt es: „Glück im Le
 ben ist planbar.\n\nDieser Kurs wird in Kooperation mit der Katholischen E
 rwachsenenbildung\, Bildungswerk Hochtaunus angeboten.\nLeitung: Nicole Ga
 rrelts\nMittwoch\, 20. November 2024\n18.30 – 20.30 Uhr\n\n242-07-030\n\
 n \n\n \n 
CATEGORIES:Gesundheit &amp; Selbsterfahrung,November
LOCATION:Frauenbildungszentrum\, Schöne Aussicht 24 \, Bad Homburg\, Hesse
 n\, 61348  \, Deutschland
X-APPLE-STRUCTURED-LOCATION;VALUE=URI;X-ADDRESS=Schöne Aussicht 24 \, Bad 
 Homburg\, Hessen\, 61348  \, Deutschland;X-APPLE-RADIUS=100;X-TITLE=Frauen
 bildungszentrum:geo:0,0
END:VEVENT
BEGIN:VTIMEZONE
TZID:Europe/Berlin
X-LIC-LOCATION:Europe/Berlin
BEGIN:STANDARD
DTSTART:20241027T020000
TZOFFSETFROM:+0200
TZOFFSETTO:+0100
TZNAME:CET
END:STANDARD
END:VTIMEZONE
END:VCALENDAR