BEGIN:VCALENDAR
VERSION:2.0
PRODID:-//wp-events-plugin.com//7.2.3.1//EN
BEGIN:VEVENT
UID:117@frauenbildungszentrum.de
DTSTART;TZID=Europe/Berlin:20260421T183000
DTEND;TZID=Europe/Berlin:20260623T200000
DTSTAMP:20251212T094852Z
URL:https://www.frauenbildungszentrum.de/events/qigong-fuer-frauen-mit-erf
 ahrung-2
SUMMARY:Qigong für Frauen mit Erfahrung 2
DESCRIPTION:Qi = Lebensenergie/ Lebenskraft\; Gong = Arbeit/ Übung. Bei di
 esen Entspannungs- und Konzentrationsübungen liegt der Schwerpunkt auf de
 m harmonischen Zusammenspiel von körperlicher Aktivität\, Atmung und Ge
 ist. Regelmäßig ausgeübt führen diese Bewegungen zu nachhaltigem körp
 erlichen und geistigen Wohlbefinden.\nIntegriert sind in diesen Kursen Üb
 ungen im Sitzen sowie Selbstmassage. Bitte bringen Sie bequeme Kleidung un
 d warme Socken mit.\nLeitung: Wilma Gilb\n10 x Di.\, 21.04. – 23.06.2026
 \n18.30 – 20.00 Uhr\n\n261-05-532\n
CATEGORIES:April,Gesundheit &amp; Selbsterfahrung,Sport &amp; Bewegung
LOCATION:Frauenbildungszentrum\, Schöne Aussicht 24 \, Bad Homburg\, Hesse
 n\, 61348  \, Deutschland
X-APPLE-STRUCTURED-LOCATION;VALUE=URI;X-ADDRESS=Schöne Aussicht 24 \, Bad 
 Homburg\, Hessen\, 61348  \, Deutschland;X-APPLE-RADIUS=100;X-TITLE=Frauen
 bildungszentrum:geo:0,0
END:VEVENT
BEGIN:VTIMEZONE
TZID:Europe/Berlin
X-LIC-LOCATION:Europe/Berlin
BEGIN:DAYLIGHT
DTSTART:20260329T030000
TZOFFSETFROM:+0100
TZOFFSETTO:+0200
TZNAME:CEST
END:DAYLIGHT
END:VTIMEZONE
END:VCALENDAR