BEGIN:VCALENDAR
VERSION:2.0
PRODID:-//wp-events-plugin.com//7.2.3.1//EN
BEGIN:VEVENT
UID:116@frauenbildungszentrum.de
DTSTART;TZID=Europe/Berlin:20260127T183000
DTEND;TZID=Europe/Berlin:20260324T200000
DTSTAMP:20251212T094625Z
URL:https://www.frauenbildungszentrum.de/events/qigong-fuer-frauen-mit-erf
 ahrung-1
SUMMARY:Qigong für Frauen mit Erfahrung 1
DESCRIPTION:Qi = Lebensenergie/ Lebenskraft\; Gong = Arbeit/ Übung. Bei di
 esen Entspannungs- und Konzentrationsübungen liegt der Schwerpunkt auf de
 m harmonischen Zusammenspiel von körperlicher Aktivität\, Atmung und Ge
 ist. Regelmäßig ausgeübt führen diese Bewegungen zu nachhaltigem körp
 erlichen und geistigen Wohlbefinden.\nIn diesem Kurs sind entspannende und
  den Körper dehnende Bodenübungen und Elemente aus dem Taiji integriert.
  Bitte bringen Sie bequeme Sportkleidung\, warme Socken und eine Gymnastik
 matte oder Wolldecke mit.\nLeitung: Wilma Gilb\n 9 x Di.\, 27.01. – 24.
 03.2026\n18.30 – 20.00 Uhr\n\n&nbsp\;\n\n261-05-531\n
CATEGORIES:Gesundheit &amp; Selbsterfahrung,Januar,Sport &amp; Bewegung
LOCATION:Frauenbildungszentrum\, Schöne Aussicht 24 \, Bad Homburg\, Hesse
 n\, 61348  \, Deutschland
X-APPLE-STRUCTURED-LOCATION;VALUE=URI;X-ADDRESS=Schöne Aussicht 24 \, Bad 
 Homburg\, Hessen\, 61348  \, Deutschland;X-APPLE-RADIUS=100;X-TITLE=Frauen
 bildungszentrum:geo:0,0
END:VEVENT
BEGIN:VTIMEZONE
TZID:Europe/Berlin
X-LIC-LOCATION:Europe/Berlin
BEGIN:STANDARD
DTSTART:20251026T020000
TZOFFSETFROM:+0200
TZOFFSETTO:+0100
TZNAME:CET
END:STANDARD
END:VTIMEZONE
END:VCALENDAR